BEGIN:VCALENDAR
VERSION:2.0
PRODID:-//Ελληνική Γαστρεντερολογική Εταιρεία - ECPv6.15.20//NONSGML v1.0//EN
CALSCALE:GREGORIAN
METHOD:PUBLISH
X-WR-CALNAME:Ελληνική Γαστρεντερολογική Εταιρεία
X-ORIGINAL-URL:https://www.hsg.gr
X-WR-CALDESC:Events for Ελληνική Γαστρεντερολογική Εταιρεία
REFRESH-INTERVAL;VALUE=DURATION:PT1H
X-Robots-Tag:noindex
X-PUBLISHED-TTL:PT1H
BEGIN:VTIMEZONE
TZID:Europe/Athens
BEGIN:DAYLIGHT
TZOFFSETFROM:+0200
TZOFFSETTO:+0300
TZNAME:EEST
DTSTART:20190331T010000
END:DAYLIGHT
BEGIN:STANDARD
TZOFFSETFROM:+0300
TZOFFSETTO:+0200
TZNAME:EET
DTSTART:20191027T010000
END:STANDARD
BEGIN:DAYLIGHT
TZOFFSETFROM:+0200
TZOFFSETTO:+0300
TZNAME:EEST
DTSTART:20200329T010000
END:DAYLIGHT
BEGIN:STANDARD
TZOFFSETFROM:+0300
TZOFFSETTO:+0200
TZNAME:EET
DTSTART:20201025T010000
END:STANDARD
BEGIN:DAYLIGHT
TZOFFSETFROM:+0200
TZOFFSETTO:+0300
TZNAME:EEST
DTSTART:20210328T010000
END:DAYLIGHT
BEGIN:STANDARD
TZOFFSETFROM:+0300
TZOFFSETTO:+0200
TZNAME:EET
DTSTART:20211031T010000
END:STANDARD
END:VTIMEZONE
BEGIN:VEVENT
DTSTART;VALUE=DATE:20200306
DTEND;VALUE=DATE:20200309
DTSTAMP:20260421T005328
CREATED:20200120T123027Z
LAST-MODIFIED:20200224T145257Z
UID:14133-1583452800-1583711999@www.hsg.gr
SUMMARY:15η Πανελλήνια Εκπαιδευτική Συνάντηση ΕΛΙΓΑΣΤΕξελίξεις στη Γαστρεντερολογία και Ηπατολογία
DESCRIPTION:ΚΑΤΕΒΑΣΤΕ ΤΟ ΠΡΟΓΡΑΜΜΑ ΤΟΥ ΣΥΝΕΔΡΙΟΥ
URL:https://www.hsg.gr/event/14%ce%b7-%cf%80%ce%b1%ce%bd%ce%b5%ce%bb%ce%bb%ce%ae%ce%bd%ce%b9%ce%b1-%ce%b5%ce%ba%cf%80%ce%b1%ce%b9%ce%b4%ce%b5%cf%85%cf%84%ce%b9%ce%ba%ce%ae-%cf%83%cf%85%ce%bd%ce%ac%ce%bd%cf%84%ce%b7%cf%83%ce%b7-2/
LOCATION:Divani Caravel Hotel\, Βασιλέως Αλεξάνδρου 2\, Αθήνα\, Αττική\, 161 21\, Ελλάδα
CATEGORIES:Συνέδριο
ATTACH;FMTTYPE=image/jpeg:https://www.hsg.gr/wp-content/uploads/2020/01/15-panellinia-ekpaideftiki-synantisi-eligast.jpg
END:VEVENT
BEGIN:VEVENT
DTSTART;VALUE=DATE:20200313
DTEND;VALUE=DATE:20200315
DTSTAMP:20260421T005328
CREATED:20191119T172139Z
LAST-MODIFIED:20191119T172428Z
UID:13693-1584057600-1584230399@www.hsg.gr
SUMMARY:4ο Συνέδριο Θεραπευτικής Ενδοσκόπησης
DESCRIPTION:Από τα απλά και καθημερινά στα σύνθετα και σπάνιαΖωντανή μετάδοση περιστατικών
URL:https://www.hsg.gr/event/4%ce%bf-%cf%83%cf%85%ce%bd%ce%ad%ce%b4%cf%81%ce%b9%ce%bf-%ce%b8%ce%b5%cf%81%ce%b1%cf%80%ce%b5%cf%85%cf%84%ce%b9%ce%ba%ce%ae%cf%82-%ce%b5%ce%bd%ce%b4%ce%bf%cf%83%ce%ba%cf%8c%cf%80%ce%b7%cf%83%ce%b7/
LOCATION:Ενδοσκοπικές αίθουσες Βενιζέλειου ΓΝΗ
CATEGORIES:Συνέδριο
ATTACH;FMTTYPE=image/jpeg:https://www.hsg.gr/wp-content/uploads/2019/11/4o-endolive-save-the-date-poster.jpg
END:VEVENT
END:VCALENDAR