BEGIN:VCALENDAR
VERSION:2.0
PRODID:-//Ελληνική Γαστρεντερολογική Εταιρεία - ECPv6.15.20//NONSGML v1.0//EN
CALSCALE:GREGORIAN
METHOD:PUBLISH
X-WR-CALNAME:Ελληνική Γαστρεντερολογική Εταιρεία
X-ORIGINAL-URL:https://www.hsg.gr
X-WR-CALDESC:Events for Ελληνική Γαστρεντερολογική Εταιρεία
REFRESH-INTERVAL;VALUE=DURATION:PT1H
X-Robots-Tag:noindex
X-PUBLISHED-TTL:PT1H
BEGIN:VTIMEZONE
TZID:Europe/Athens
BEGIN:DAYLIGHT
TZOFFSETFROM:+0200
TZOFFSETTO:+0300
TZNAME:EEST
DTSTART:20180325T010000
END:DAYLIGHT
BEGIN:STANDARD
TZOFFSETFROM:+0300
TZOFFSETTO:+0200
TZNAME:EET
DTSTART:20181028T010000
END:STANDARD
BEGIN:DAYLIGHT
TZOFFSETFROM:+0200
TZOFFSETTO:+0300
TZNAME:EEST
DTSTART:20190331T010000
END:DAYLIGHT
BEGIN:STANDARD
TZOFFSETFROM:+0300
TZOFFSETTO:+0200
TZNAME:EET
DTSTART:20191027T010000
END:STANDARD
BEGIN:DAYLIGHT
TZOFFSETFROM:+0200
TZOFFSETTO:+0300
TZNAME:EEST
DTSTART:20200329T010000
END:DAYLIGHT
BEGIN:STANDARD
TZOFFSETFROM:+0300
TZOFFSETTO:+0200
TZNAME:EET
DTSTART:20201025T010000
END:STANDARD
END:VTIMEZONE
BEGIN:VEVENT
DTSTART;VALUE=DATE:20190607
DTEND;VALUE=DATE:20190610
DTSTAMP:20260420T101121
CREATED:20190329T100034Z
LAST-MODIFIED:20190329T100034Z
UID:11069-1559865600-1560124799@www.hsg.gr
SUMMARY:11η Ηπατο-Γαστρεντερολογική Εκδήλωση
DESCRIPTION:Η εγγραφή στις εργασίες της Διημερίδας είναι Δωρεάν και πραγματοποιείται ΕΔΩ \nΓια περισσότερες πληροφορίες\, παρακαλούμε πατήστε ΕΔΩ
URL:https://www.hsg.gr/event/11%ce%b7-%ce%b7%cf%80%ce%b1%cf%84%ce%bf-%ce%b3%ce%b1%cf%83%cf%84%cf%81%ce%b5%ce%bd%cf%84%ce%b5%cf%81%ce%bf%ce%bb%ce%bf%ce%b3%ce%b9%ce%ba%ce%ae-%ce%b5%ce%ba%ce%b4%ce%ae%ce%bb%cf%89%cf%83%ce%b7/
LOCATION:Ξενοδοχείο Ionian Blue\, Νικιάνα\, Λευκάδα\, 31100
CATEGORIES:Διημερίδες
ATTACH;FMTTYPE=image/jpeg:https://www.hsg.gr/wp-content/uploads/2019/03/11-ipato-gastro-ekdilosi.jpg
END:VEVENT
BEGIN:VEVENT
DTSTART;TZID=Europe/Athens:20190614T083000
DTEND;TZID=Europe/Athens:20190614T170000
DTSTAMP:20260420T101121
CREATED:20190531T124853Z
LAST-MODIFIED:20190531T124853Z
UID:12158-1560501000-1560531600@www.hsg.gr
SUMMARY:«Νεότερες Εξελίξεις στη Γαστρεντερολογία»
DESCRIPTION:
URL:https://www.hsg.gr/event/%ce%bd%ce%b5%cf%8c%cf%84%ce%b5%cf%81%ce%b5%cf%82-%ce%b5%ce%be%ce%b5%ce%bb%ce%af%ce%be%ce%b5%ce%b9%cf%82-%cf%83%cf%84%ce%b7-%ce%b3%ce%b1%cf%83%cf%84%cf%81%ce%b5%ce%bd%cf%84%ce%b5%cf%81%ce%bf/
LOCATION:Συνεδριακό Κέντρο «Ν. ΛΟΥΡΟΣ»\, ΜΗΤΕΡΑ\, Ερυθρού Σταυρού 6\, Μαρούσι\, Αττικής\, 151 23
CATEGORIES:Ημερίδα
ATTACH;FMTTYPE=image/jpeg:https://www.hsg.gr/wp-content/uploads/2019/05/neoteres_exelixeis_stin_gastrenterologia_2019.jpg
ORGANIZER;CN="%CE%A4%CE%BC%CE%AE%CE%BC%CE%B1 %CE%92%E2%80%99 %CE%93%CE%B1%CF%83%CF%84%CF%81%CE%B5%CE%BD%CF%84%CE%B5%CF%81%CE%BF%CE%BB%CE%BF%CE%B3%CE%B9%CE%BA%CE%AE%CF%82 %CE%9A%CE%BB%CE%B9%CE%BD%CE%B9%CE%BA%CE%AE%CF%82 %CE%A5%CE%93%CE%95%CE%99%CE%91":MAILTO:www.hygeia.gr
END:VEVENT
BEGIN:VEVENT
DTSTART;VALUE=DATE:20190621
DTEND;VALUE=DATE:20190623
DTSTAMP:20260420T101121
CREATED:20190513T100156Z
LAST-MODIFIED:20190610T060948Z
UID:12060-1561075200-1561247999@www.hsg.gr
SUMMARY:«Διαδραστική προσέγγιση ασθενών με νεοπλασία του πεπτικού συστήματος: Διαγνωστικά και θεραπευτικά διλήμματα»
DESCRIPTION:ΔΕΙΤΕ ΤΟ ΠΡΟΓΡΑΜΜΑ
URL:https://www.hsg.gr/event/%ce%b4%ce%b9%ce%b1%ce%b4%cf%81%ce%b1%cf%83%cf%84%ce%b9%ce%ba%ce%ae-%cf%80%cf%81%ce%bf%cf%83%ce%ad%ce%b3%ce%b3%ce%b9%cf%83%ce%b7-%ce%b1%cf%83%ce%b8%ce%b5%ce%bd%cf%8e%ce%bd-%ce%bc%ce%b5-%ce%bd/
LOCATION:Crowne Plaza Athens City Center Hotel\, Μιχαλακοπούλου 50\, Αθήνα\, 115 28
CATEGORIES:Διημερίδες
ATTACH;FMTTYPE=image/jpeg:https://www.hsg.gr/wp-content/uploads/2019/05/elliniki-etaireia-ogologias-peptikou-2019.jpg
END:VEVENT
BEGIN:VEVENT
DTSTART;TZID=Europe/Athens:20190622T090000
DTEND;TZID=Europe/Athens:20190622T163000
DTSTAMP:20260420T101121
CREATED:20190618T081826Z
LAST-MODIFIED:20190618T131008Z
UID:12385-1561194000-1561221000@www.hsg.gr
SUMMARY:Σύνοψη Digestive Disease Week 2019
DESCRIPTION:Επιστημονικό ΠρόγραμμαΣάββατο\, 22 Ιουνίου 2019\n\n\n\n09:00-09:30\nΕισαγωγή - Προσφωνήσεις\n\n\n09:30-10:15\nΑνώτερο πεπτικό\nΠροεδρείο: Δ. Καμπέρογλου\, Γ. Καραμανώλης\nΟμιλήτρια: Ν. Μάθου\n\n\n10:15-11:00\nΉπαρ - Χοληφόρα\nΠροεδρείο: Α. Ακριβιάδης\, Σ. Μανωλακόπουλος\nΟμιλητής: Ι. Βλαχογιαννάκος\n\n\n11:00-11:30\nΔιάλειμμα - Καφές\n\n\n11:30-12:30\nΕνδοσκόπηση\nΠροεδρείο: Κ. Παρασκευά\, Γ. Πασπάτης\nΟμιλητής: Γ. Μαυρογένης\n\n\n12:30-13:30\nΙΦΝΕ\nΠροεδρείο: Γ. Μάντζαρης\, Μ. Τζουβαλά\nΟμιλητής: Ν. Βιάζης\n\n\n13:30-14:30\nΓεύμα\n\n\n14:30-15:15\nΠρώτη φορά στο DDW (Εντυπώσεις - Εμπειρίες) - Η Ελληνική ερευνητική παρουσία στο DDW 2019\nΠροεδρείο: Ι. Βλαχογιαννάκος\, Γ. Παπαθεοδωρίδης\nΟμιλήτρια: Ε. Τσουκάλη\n\n\n15:15-16:00\nΚατώτερο πεπτικό\nΠροεδρείο: Δ. Ταμπακόπουλος\, Κ. Τριανταφύλλου\nΟμιλητής: Δ. Καραγιάννης\n\n\n16:00-16:30\nΣυμπεράσματα - Λήξη\n\n\n\nΓΕΝΙΚΕΣ ΠΛΗΡΟΦΟΡΙΕΣΧΡΟΝΟΣ ΔΙΕΞΑΓΩΓΗΣ22 Ιουνίου 2019 \nΤΟΠΟΣ ΔΙΕΞΑΓΩΓΗΣΑμφιθέατρο Φ. Φέσσας\, Γ.Ν.Α. «Λαϊκό» \nΓΡΑΜΜΑΤΕΙΑ Focus on Health Ε.Π.Ε.\n Ιωάννου Γενναδίου 16\n 115 21 Αθήνα\n Τ: 210 722 3046\n F: 210 722 3220\n E-mail: events@focusonhealth.gr \nΚΑΤΕΒΑΣΤΕ ΤΟ ΠΡΟΓΡΑΜΜΑ
URL:https://www.hsg.gr/event/digestive-disease-week-2019/
LOCATION:Αμφιθέατρο «Φ. Φέσσας»\, Γ.Ν.Α. «Λαϊκό»\, Αγίου Θωμά 17\, Αθήνα\, 115 27
CATEGORIES:Ημερίδα
ATTACH;FMTTYPE=image/jpeg:https://www.hsg.gr/wp-content/uploads/2019/06/ddw_2019.jpg
END:VEVENT
END:VCALENDAR