BEGIN:VCALENDAR
VERSION:2.0
PRODID:-//Ελληνική Γαστρεντερολογική Εταιρεία - ECPv6.15.20//NONSGML v1.0//EN
CALSCALE:GREGORIAN
METHOD:PUBLISH
X-ORIGINAL-URL:https://www.hsg.gr
X-WR-CALDESC:Events for Ελληνική Γαστρεντερολογική Εταιρεία
REFRESH-INTERVAL;VALUE=DURATION:PT1H
X-Robots-Tag:noindex
X-PUBLISHED-TTL:PT1H
BEGIN:VTIMEZONE
TZID:Europe/Athens
BEGIN:DAYLIGHT
TZOFFSETFROM:+0200
TZOFFSETTO:+0300
TZNAME:EEST
DTSTART:20180325T010000
END:DAYLIGHT
BEGIN:STANDARD
TZOFFSETFROM:+0300
TZOFFSETTO:+0200
TZNAME:EET
DTSTART:20181028T010000
END:STANDARD
BEGIN:DAYLIGHT
TZOFFSETFROM:+0200
TZOFFSETTO:+0300
TZNAME:EEST
DTSTART:20190331T010000
END:DAYLIGHT
BEGIN:STANDARD
TZOFFSETFROM:+0300
TZOFFSETTO:+0200
TZNAME:EET
DTSTART:20191027T010000
END:STANDARD
BEGIN:DAYLIGHT
TZOFFSETFROM:+0200
TZOFFSETTO:+0300
TZNAME:EEST
DTSTART:20200329T010000
END:DAYLIGHT
BEGIN:STANDARD
TZOFFSETFROM:+0300
TZOFFSETTO:+0200
TZNAME:EET
DTSTART:20201025T010000
END:STANDARD
END:VTIMEZONE
BEGIN:VEVENT
DTSTART;VALUE=DATE:20190215
DTEND;VALUE=DATE:20190218
DTSTAMP:20260420T010109
CREATED:20190131T213448Z
LAST-MODIFIED:20190213T221019Z
UID:10835-1550188800-1550447999@www.hsg.gr
SUMMARY:14η Πανελλήνια Εκπαιδευτική Συνάντηση ΕΛΙΓΑΣΤΕξελίξεις στη Γαστρεντερολογία και Ηπατολογία
DESCRIPTION:ΔΙΟΙΚΗΤΙΚΟ ΣΥΜΒΟΥΛΙΟ\nΕΛ.Ι.ΓΑΣΤΠρόεδρος\n Γ. Παπαθεοδωρίδης\nΔιευθυντής\n Γ. Πασπάτης\nΓεν. Γραμματέας\n Γ. Καραμανώλης\nΤαμίας\n Ν. Βιάζης\nΜέλη\n Ε. Ακριβιάδης\nΝ. Θεοδωρίδης\nΔ. Καραγιάννης\nΣ. Μανωλακόπουλος\nΔ. Ταμπακόπουλος\nΕ. Τσιρώνη\nΛ. Χατζηανδρέου \nΟΡΓΑΝΩΤΙΚΗ ΕΠΙΤΡΟΠΗΠρόεδρος\n Ε. Τσιρώνη\nΓεν. Γραμματέας\n Ε. Ζαμπέλη\nΤαμίας\n Μ. Μελά\nΜέλη\n Ν. Βιάζης\nΝ. Μάθου\nΓ. Μπάμιας\nΗ. Ξηρουχάκης\nΠ. Παπαχρήστος\nΚ. Παρασκευά\nΜ. Τζουβαλά\nΑ. Χρηστίδου \nΕΠΙΣΤΗΜΟΝΙΚΗ ΕΠΙΤΡΟΠΗΠ. Αποστολόπουλος\nΣ. Γεωργόπουλος\nΌ. Γιουλεμέ\nΙ. Γουλής\nΙ. Ελευσινιώτης\nΘ. Εμμανουήλ\nΑ. Θεοδωροπούλου\nΚ. Θωμόπουλος\nΓ. Καραμανώλης\nΚ. Καρμίρης\nΚ. Κατσάνος\nΜ. Κοντογιάννη\nΙ. Κουτρουμπάκης\nΧ. Λιάτσος\nΓ. Μάντζαρης\nΚ. Μιμίδης\nΣ. Μιχόπουλος\nΜ. Ντόιτς\nΙ. Παπανικολάου\nΣ. Ποταμιάνος\nΕ. Ρώμα\nΔ. Σαμωνάκης\nΚ. Σουφλέρης\nΓ. Στεφανίδης\nΧ. Τριάντος\nΕ. Χολόγκιτας\nΔ. Χριστοδούλου \nΧΑΙΡΕΤΙΣΜΟΣ ΠΡΟΕΔΡΟΥΑγαπητοί συνάδελφοι\, \nΜε μεγάλη χαρά σάς ανακοινώνω τη διενέργεια της 14ης Πανελλήνιας Εκπαιδευτικής Συνάντησης του Ελληνικού Ιδρύματος Γαστρεντερολογίας & Διατροφής\, που θα λάβει χώρα στις 15-17 Φεβρουαρίου 2019 στο φιλόξενο χώρο του ξενοδοχείου Royal Olympic. \nΗ Εκπαιδευτική Συνάντηση του ΕΛΙΓΑΣΤ αποτελεί πλέον θεσμό στις επιστημονικές δραστηριότητες της Γαστρεντερολογικής Κοινότητας και η διοργάνωσή του αποτέλεσε ιδιαίτερη τιμή για εμένα\, ως πνευματικό παιδί του ιδρυτή του ιδρύματος του αείμνηστου Δημήτρη Καραμανώλη. \nΌπως κάθε χρόνο\, το πρόγραμμα περιλαμβάνει ένα ευρύ φάσμα στα αντικείμενα της Γαστρεντερολογίας\, Ηπατολογίας\, Ενδοσκόπησης και Διατροφής\, καλύπτοντας τις σύγχρονες εξελίξεις αλλά και καθημερινές κλινικές πρακτικές. Στη φετινή εκδήλωση\, εκτός από στρογγυλά τραπέζια και διαλέξεις\, για πρώτη φορά περιλαμβάνεται και μία συνεδρία με κλινικές περιπτώσεις\, η αντιμετώπιση των οποίων στηρίζεται σε κατευθυντήριες οδηγίες. Έχουμε επιλέξει καταξιωμένους ομιλητές\, αλλά και σχετικά νεότερους συναδέλφους\, με υψηλό επιστημονικό επίπεδο\, ικανούς να μεταφέρουν τις τελευταίες εξελίξεις σε επίκαιρα θέματα. \nΣκοπός μας είναι η ανταλλαγή εμπειριών αλλά και προβληματισμών\, που καθημερινά αντιμετωπίζουμε στην κλινική μας πράξη\, ιδιαίτερα σε μία περίοδο κρίσης για τη χώρα μας. \nΠροσβλέπουμε στην ενεργή και διαδραστική συμμετοχή σας στις εργασίες της εκπαιδευτικής συνάντησης\, η οποία θα συμβάλλει στην επιτυχία της εκδήλωσης. \nΜε συναδελφικούς χαιρετισμούς\nΕυτυχία Τσιρώνη\nΠρόεδρος της Οργανωτικής Επιτροπής \nΚΑΤΕΒΑΣΤΕ ΤΟ ΠΡΟΓΡΑΜΜΑ ΤΟΥ ΣΥΝΕΔΡΙΟΥΕπιστημονικό Πρόγραμμα1η Ημέρα\nΠαρασκευή 15 Φεβρουαρίου 2019\nΑίθουσα Olympia\n\n\n\n08.30-09.00\nΧαιρετισμοί - Εισαγωγή\n\n\n09.00-10.30\nΔιατροφή Ι\nΠροεδρείο: Ο. Ανδρούτσος\, Μ. Κοντογιάννη\n\nNutrigenetics/nutrigenomics: τι είναι και πώς μπορούν να βοηθήσουν στην αντιμετώπιση της παχυσαρκίας;\nΝ. Γιαννακούρης\nΒιοδραστικά συστατικά τροφίμων: από το πιάτο έως το συμπλήρωμα.\nΕ. Φραγκοπούλου\nΤρόπος ζωής και πρόληψη του καρκίνου.\nΘ. Σιαλβέρα\nLight/χαμηλού γλυκαιμικού δείκτη προϊόντα: οφέλη και κίνδυνοι.\nM. Γεωργούλης\n\n\n\n10.30-11.00\nΔιάλειμμα\n\n\n11.00-12.30\nΔιατροφή ΙΙ\nΠροεδρείο: Π. Παπαχρήστος\, Ε. Ρώμα\n\nΔίαιτα FODMAPs σε ασθενείς με ΙΦΝΕ και λειτουργικά συμπτώματα: βελτίωση ή επιδείνωση;\nΠ. Αναπλιώτης\nΟ ρόλος της δίαιτας ως περιβαλλοντικός παράγοντας στην αιτιολογία των ΙΦΝΕ.\nΑ. Ρούσσος\nΣαρκοπενία στη χρόνια νόσο: υπάρχει χώρος για διατροφική παρέμβαση;\nΙ. Διονυσιώτης\nΗ χρήση της ανοσοδιατροφής στην εντερική και παρεντερική διατροφή.\nΔ. Καραγιάννης\n\n\n12.30-14.00\nΉπαρ Ι\nΠροεδρείο: Γ. Γερμανίδης\, Σ. ΜανωλακόπουλοςΚλινική πράξη: Η επιλογή της κατάλληλης θεραπείας σε ασθενή με χρόνια ηπατίτιδα C.\nΙ. Βλαχογιαννάκος\nΚατευθυντήριες οδηγίες: Αλκοολική ηπατίτιδα: διάγνωση και αντιμετώπιση.\nΝ. Παπαδόπουλος\nΜέθοδος: Ενδείξεις και περιορισμοί της ελαστογραφίας στις παθήσεις του ήπατος.\nΔ. Καραγιαννάκης\nΕξελίξεις: Νεότερα στην ηπατίτιδα E.\nΠ. Φυτιλή\n\n\n14.00-15.00\nΜεσημβρινή Διακοπή\n\n\n15.00-16.30\nΑνώτερο πεπτικό\nΠροεδρείο: Κ. Θωμόπουλος\, Σ. ΠοταμιάνοςΚλινική πράξη: ΝΕΤ στομάχου: συχνότητα - τρόποι ελέγχου & αντιμετώπισης - οδηγίες παρακολούθησης.\nΔ. Τζιλβές\nΚατευθυντήριες οδηγίες: Ελληνικό πλαίσιο ομοφωνίας για το ελικοβακτηρίδιο του πυλωρού: διαφορές από το Maastricht V.\nΣ. Γεωργόπουλος\nΜέθοδος: Ενδοσκοπική αντιμετώπιση οισοφάγου Barrett: σε ποιες περιπτώσεις και πώς;\nΣ. Μιχόπουλος\nΕξελίξεις: Ηωσινοφιλικά σύνδρομα ανώτερου πεπτικού: διάγνωση και θεραπεία.\nΜ. Γιακουμής\n\n\n16.30-17.00\nΔιάλεξη\nΠροεδρείο: Γ. ΠαπαθεοδωρίδηςΕπιδράσεις του καφέ στο πεπτικό σύστημα... και όχι μόνο.\nΕ. Ακριβιάδης\n\n\n17.00-17.30\nΔιάλειμμα\n\n\n17.30-19.00\nΕνδοσκόπηση\nΠροεδρείο: Π. Αποστολόπουλος\, Χ. ΛιάτσοςΚλινική πράξη: Ενδοσκοπική αντιμετώπιση μη κιρσικής αιτιολογίας αιμορραγίας ανώτερου πεπτικού.\nΕ. Αρχαύλης\nΚατευθυντήριες οδηγίες: προληπτική κολονοσκόπηση: πότε ξεκινάμε\, πότε σταματάμε; Πρέπει να λαμβάνεται υπόψη το adenoma detection rate του εξεταστή;\nΑ. Γιαννακόπουλος\nΜέθοδος: Έλεγχος λεπτού εντέρου: εντερόκλυση - ενδοσκοπική κάψουλα - CT/MR εντερογραφία - εντεροσκόπηση στην Ελλάδα της κρίσης: ποια εξέταση και πότε;\nΕ. Βλάχου\nΕξελίξεις: Ψηφιακή χρωμοενδοσκόπηση - χαρακτηρισμός βλαβών ανώτερου και κατωτέρου πεπτικού: πώς πρέπει να χαρακτηρίζω τις βλάβες στην έκθεση της ενδοσκόπησης;\nΒ. Παπαστεργίου\n\n\n19.00-19.30\nΔιάλεξη\nΠροεδρείο: Γ. ΠασπάτηςΣταθμοί στην ιστορία της Ενδοσκόπησης: από το ινοπτικό ενδοσκόπιο στην artificial intelligence.\nΚ. Παρασκευά\n\n\n19.30-20.00\nΣύνοψη της ημέρας - τελετή έναρξης\nΠροεδρείο: Γ. Παπαθεοδωρίδης\, Ε. Τσιρώνη\n\n\n\n2η Ημέρα\nΣάββατο 16 Φεβρουαρίου 2019\nΑίθουσα Olympia\n\n\n\n09.00-10.30\nΠάγκρεας-Χοληφόρα\nΠροεδρείο: Κ. Γκούμας\, Ι. ΚαρούμπαληςΚλινική πράξη: «Τυχαιώματα» παγκρέατος: ποια η αντιμετώπιση;\nΔ. Κυπραίος\nΚατευθυντήριες Οδηγίες: Αυτοάνοση παγκρεατίτιδα: διάγνωση - αντιμετώπιση.\nΚ. Βαρυτιμιάδης\nΜέθοδος: Ενδοσκοπική αντιμετώπιση επιπλοκών χρόνιας παγκρεατίτιδας.\nΓ. Πενέσης\nΕξελίξεις: Χολαγγειοσκόπηση: ενδείξεις - αντενδείξεις - επιπλοκές.\nΕ. Βάρδας\n\n\n10.30-11.00\nΔορυφορικό (εταιρεία MSD)\nΗ ανάγκη εξατομίκευσης της θεραπευτικής επιλογής για ασθενείς με Ηπατίτιδα C\nΠροεδρείο: Ε. Ακριβιάδης\nΟμιλητής: Σ. Μανωλακόπουλος\n\n\n11.00-11.30\nΔιάλειμμα\n\n\n11.30-13.00\nΚατώτερο πεπτικό\nΠροεδρείο: Ν. Βιάζης\, Δ. ΚαραγιάννηςΚλινική πράξη: Ακράτεια κοπράνων: διαφορική διάγνωση\, αντιμετώπιση.\nΣ. Σγούρος\nΚατευθυντήριες οδηγίες: Κληρονομικά σύνδρομα καρκίνου παχέος εντέρου: διάγνωση - επιτήρηση.\nΦ. Δημουλιός\nΜέθοδος: Πολυποδεκτομή: επιλογή βρόχου\, hot vs cold snare\, χρήση submucosal injection\, τοποθέτηση αιμοστατικών clips. Ποιο; Πότε;\nΓ. Τριμπόνιας\nΕξελίξεις: Σύγχρονες απόψεις στην αντιμετώπιση της ανθεκτικής δυσκοιλιότητας.\nΚ. Βασιλειάδης\n\n\n13.00-13.30\nΔορυφορικό (εταιρεία Janssen)\nΔιαμορφώνοντας ένα μακροπρόθεσμο θεραπευτικό πλάνο στη νόσο του Crohn\nΠροεδρείο: Μ. Τζουβαλά\nΟμιλητής: Π. ΚαρατζάςΗ εξέλιξη των θεραπευτικών στόχων στη Νόσο του Crohn.\nΜ. Τζουβαλά\nΜακροχρόνια διαχείριση της Νόσου του Crohn με το Ustekinumab.\nΠ. Καρατζάς\n\n\n\n13.30-14.00\nΔιάλεξη\nΠροεδρείο: Κ. ΤριανταφύλλουΠροβιοτικά στην αντιμετώπιση συμπτωμάτων του κατώτερου πεπτικού.\nΓ. Καραμανώλης\n\n\n \nΑίθουσα Kallirhoe\n\n\n14:00-15:00\nΓεύμα στα πλαίσια Δορυφορικού Συμποσίου της εταιρείας Takeda\n\n\n15:00-15:30\nΔορυφορικό Συμπόσιο της εταιρείας Takeda\nΕπιλέγοντας την κατάλληλη βιολογική θεραπεία σε πρωτοθεραπευόμενους ασθενείς με νόσο Crohn\nΠροεδρείο: Γ. Μάντζαρης\nΟμιλητής: Γ. Μπάμιας\n\n\n15.30-17.00\nΉπαρ ΙΙ\nΠροεδρείο: Ι. Γουλής\, Ι. Ελευσινιώτης\n\nΚλινική πράξη: Διακοπή θεραπείας σε χρόνια HBV λοίμωξη: πότε\, σε ποιους και με ποια παρακολούθηση;\nΒ. Σεβαστιανός\nΚατευθυντήριες οδηγίες: Hπατοκυτταρικός καρκίνος: νέες κατευθυντήριες οδηγίες EASL. Τι άλλαξε;\nΧ. Τριάντος\nΜέθοδος: Υπάρχει δυνατότητα διαφορικής διάγνωσης απλής στεάτωσης από NASH;\nΔ. Σαμωνάκης\nΕξελίξεις: Αναδυόμενες φαρμακευτικές θεραπείες στη NAFLD.\nΗ. Ξηρουχάκης\n\n\n17.00-17.30\nΔιάλειμμα\n\n\n17.30-19.30\nΙΦΝΕ\nΠροεδρείο: Γ. Μάντζαρης\, Δ. ΧριστοδούλουΚλινική πράξη: Αλλαγή βιολογικού παράγοντα: πότε και πώς;\nΚ. Κατσάνος\nΚατευθυντήριες οδηγίες: Exit strategy για την αζαθειοπρίνη ως μονοθεραπεία ή σε συνδυασμό με βιολογικό παράγοντα.\nΜ. Οικονόμου\nΕνδοσκόπηση: Συνήθη λάθη στην ενδοσκόπηση των ασθενών με ΙΦΝΕ.\nΓ. Θεοχάρης\nΜέθοδος: νέοι μέθοδοι αντιμετώπισης των περιεδρικών συριγγίων.\nΙ. Παπακωνσταντίνου\nΕξελίξεις: Νέες από του στόματος θεραπείες στην ΙΦΝΕ.\nΑ. Θεοδωροπούλου\n\n\n19.30-20.00\nΔιάλεξη\nΠροεδρείο: Ι. ΚουτρουμπάκηςΑνοσοθεραπεία και επιπλοκές από το πεπτικό.\nΓ. Μπάμιας\n\n\n20.00-20.15\nΣύνοψη δεύτερης ημέρας\nΠροεδρείο: Ε. Τσιρώνη\n\n\n\n3η Ημέρα\nΚυριακή 17 Φεβρουαρίου 2019\nΑίθουσα Olympia\n\n\n\n09.30-10.45\nPotpourri: Καθημερινά κλινικά διλήμματα\nΠροεδρείο: Ε. Ακριβιάδης\, Δ. ΤαμπακόπουλοςΑνθεκτική ΓΟΠΝ: υποομάδες\, διάγνωση\, αντιμετώπιση.\nΚ. Κατωπόδη\nΑσυμπτωματική λιθίαση και πολύποδες χοληδόχου κύστης: απαλλαγή\, παρακολούθηση ή χολοκυστεκτομή;\nΔ. Δανδάκης\nΣύνδρομο ευερέθιστου εντέρου: ποιος έλεγχος απαιτείται; Αντιμετώπιση.\nΕ. Χιωτακάκου\n\n\n10.45-12.30\nΚλινικές περιπτώσεις\nΠροεδρείο: Ο. Γιουλεμέ\, Μ. ΜελάΑσθενής με διαφυγή HBV λοίμωξης υπό ανοσοκατασταλτική αγωγή - ποιοι χρήζουν προφυλακτικής αγωγής;\nΑ. Φιλιππάκου\nΑσθενής με οξεία ηπατική ανεπάρκεια.\nΚ. Φωτεινογιαννοπούλου\nΑσθενής με ανθεκτική κοιλιοκάκη.\nΓ. Αξιάρης\nΑσθενής με ΙΦΝΕ και Ca παχέος.\nΚ. Φασούλας\nΑσθενής με βαριά ελκώδη κολίτιδα.\nΕ. Ζαχαροπούλου\n\n\n12.30-12.45\nΣυμπεράσματα - Λήξη συνεδρίου\nΠροεδρείο: Ε. Τσιρώνη\n\n\n\nΠΡΟΕΔΡΟΙ - ΟΜΙΛΗΤΕΣΑΚΡΙΒΙΑΔΗΣ ΕΥΑΓΓΕΛΟΣ\nΚαθηγητής Παθολογίας-Γαστρεντερολογίας\, Ιατρική Σχολή Α.Π.Θ.\, Δ’ Παθολογική Κλινική\, Γ.Ν.Θ. «Ιπποκράτειο» \nΑΝΑΠΛΙΩΤΗΣ ΠΑΝΑΓΙΩΤΗΣ\nΓαστρεντερολόγος\, M.Sc. Κλινική Διατροφή-Διαιτολογία \nΑΝΔΡΟΥΤΣΟΣ ΟΔΥΣΣΕΑΣ\nΜεταδιδακτορικός Συνεργάτης\, Τμήμα Επιστήμης Διαιτολογίας-Διατροφής\, Χαροκόπειο Πανεπιστήμιο\, Ακαδημαϊκός Υπότροφος\, Τμήμα Διατροφής & Διαιτολογίας\, Τ.Ε.Ι. Θεσσαλίας \nΑΞΙΑΡΗΣ ΓΕΩΡΓΙΟΣ\nΕιδικευόμενος Γαστρεντερολογίας\, Γ.Ν. Αλεξάνδρα \nΑΠΟΣΤΟΛΟΠΟΥΛΟΣ ΠΕΡΙΚΛΗΣ\nΔιευθυντής Ε.Σ.Υ.\, Γαστρεντερολογική Κλινική\, ΝΙΜΤΣ \nΑΡΧΑΥΛΗΣ ΕΜΜΑΝΟΥΗΛ\nΓαστρεντερολόγος\, Διευθυντής\, Γαστρεντερολογικό Τμήμα\, Γ.Ν.Α. «Ο Ευαγγελισμός» \nΒΑΡΔΑΣ ΕΜΜΑΝΟΥΗΛ\nΔιευθυντής Ε.Σ.Υ.\, Γαστρεντερολόγος\, Γ.Ν. Ηρακλείου «Βενιζέλειο-Πανάνειο» \nΒΑΡΥΤΙΜΙΑΔΗΣ ΚΩΝΣΤΑΝΤΙΝΟΣ\nΓαστρεντερολόγος\, Επιμελητής Β’\, Γ.Ν.Α. Σισμανόγλειο \nΒΑΣΙΛΕΙΑΔΗΣ ΚΩΝΣΤΑΝΤΙΝΟΣ\nΕπιμελητής Γαστρεντερολογικής Κλινικής\, Ναυτικό Νοσοκομείο Αθηνών \nΒΙΑΖΗΣ ΝΙΚΟΛΑΟΣ\nΓαστρεντερολόγος-Διευθυντής Γαστρεντερολογικό Τμήμα\, Γ.Ν.Α. «Ο Ευαγγελισμός» \nΒΛΑΧΟΓΙΑΝΝΑΚΟΣ ΙΩΑΝΝΗΣ\nΑναπληρωτής Καθηγητής Γαστρεντερολογίας\, Ιατρική Σχολή Ε.Κ.Π.Α.\, Πανεπιστημιακή Γαστρεντερολογική Κλινική\, Γ.Ν.Α. «Λαϊκό» \nΒΛΑΧΟΥ ΕΡΑΣΜΙΑ\nΕπικουρική Ιατρός Γαστρεντερολογικής Κλινικής\, ΝΙΜΤΣ \nΓΕΡΜΑΝΙΔΗΣ ΓΕΩΡΓΙΟΣ\nΑναπληρωτής Καθηγητής Γαστρεντερολογίας Α.Π.Θ.\, Α’ Παθολογική Κλινική\, Π.Γ.Ν.Θ. ΑΧΕΠΑ \nΓΕΩΡΓΟΠΟΥΛΟΣ ΣΩΤΗΡΙΟΣ\nMD\, FEBGH\, AGAF\, Διευθυντής Γαστρεντερολογικής Κλινικής\, Ιατρικό Κέντρο Π. Φαλήρου \nΓΕΩΡΓΟΥΛΗΣ ΜΙΧΑΛΗΣ\nΔιαιτολόγος-Διατροφολόγος\, M.Sc.\, Χαροκόπειο Πανεπιστήμιο \nΓΙΑΚΟΥΜΗΣ ΜΑΡΙΟΣ\nΓαστρεντερολόγος\, Επιμελητής Γαστρεντερολογικής Κλινικής\, 401 Γ.Σ.Ν.Α. \nΓΙΑΝΝΑΚΟΠΟΥΛΟΣ ΑΘΑΝΑΣΙΟΣ\nΓαστρεντερολόγος\, Επιμελητής Α’\, «Κωνσταντοπούλειο» Γ.Ν. Νέας Ιωνίας-Πατησίων \nΓΙΑΝΝΑΚΟΥΡΗΣ ΝΙΚΟΛΑΟΣ\nΑναπληρωτής Καθηγητής Βιολογίας-Φυσιολογίας\, Τμήμα Επιστήμης Διαιτολογίας-Διατροφής\, Σχολή Επιστημών Υγείας & Αγωγής\, Χαροκόπειο Πανεπιστήμιο \nΓΙΟΥΛΕΜΕ ΟΛΓΑ\nΑναπληρώτρια Καθηγήτρια Γαστρεντερολογίας Α.Π.Θ.\, Β’ Προπαιδευτική Παθολογική Κλινική Α.Π.Θ.\, Γ.Ν.Θ. Ιπποκράτειο \nΓΚΟΥΜΑΣ ΚΩΝΣΤΑΝΤΙΝΟΣ\nΔιευθυντής Γαστρεντερολογικού Τμήματος\, Γ.Ν. «Κοργιαλένειο Μπενάκειο Ε.Ε.Σ.» \nΓΟΥΛΗΣ ΙΩΑΝΝΗΣ\nΑναπληρωτής Καθηγητής Γαστρεντερολογίας Α.Π.Θ.\, Δ’ Παθολογική Κλινική Γ.Ν.Θ. «Ιπποκράτειο» \nΔΑΝΔΑΚΗΣ ΔΗΜΗΤΡΙΟΣ\nΓαστρεντερολόγος\, Διευθυντής Γαστρεντερολογικής Κλινικής Επεμβατικής και Απεικονιστικής Ενδοσκόπησης\, Metropolitan General \nΔΗΜΟΥΛΙΟΣ ΦΙΛΙΠΠΟΣ\nΓαστρεντερολόγος\, Επιμελητής Α’\, Γαστρεντερολογική Κλινική\, Γ.Ν.Θ. «Γ. Παπανικολάου» \nΔΙΟΝΥΣΙΩΤΗΣ ΙΩΑΝΝΗΣ\nMSc.\, PhD\, Φυσίατρος-Ιατρός Αποκατάστασης\, Επιμελητής Κλινικής ΦΙΑΠ\, Π.Γ.Ν. Ιωαννίνων \nΕΛΕΥΣΙΝΙΩΤΗΣ ΙΩΑΝΝΗΣ\nΑναπληρωτής Καθηγητής Παθολογίας Ε.Κ.Π.Α\, Διευθυντής Πανεπιστημιακής Παθολογικής Κλινικής\, Γ.Ο.Ν.Κ. «Οι Άγιοι Ανάργυροι» \nΖΑΧΑΡΟΠΟΥΛΟΥ ΕΙΡΗΝΗ\nΕιδικευόμενη Γαστρεντερολογίας\, Γ.Ν.Ν.Π. «Αγ. Παντελεήμων» - Γ.Ν.Δ.Α. «Η Αγία Βαρβάρα» \nΘΕΟΔΩΡΟΠΟΥΛΟΥ ΑΓΓΕΛΙΚΗ\nΕπιμελήτρια Α’ Ε.Σ.Υ.\, Γ.Ν. Ηρακλείου «Βενιζέλειο-Πανάνειο» \nΘΕΟΧΑΡΗΣ ΓΕΩΡΓΙΟΣ\nΕπιμελητής Α’\, Π.Γ.Ν.Π. Ρίο Πατρών \nΘΩΜΟΠΟΥΛΟΣ ΚΩΝΣΤΑΝΤΙΝΟΣ\nΑναπληρωτής Καθηγητής Γαστρεντερολογίας\, Διευθυντής\, Γαστρεντερολογικό Τμήμα\, Παθολογική Κλινική\, Π.Γ.Ν. Πατρών \nΚΑΡΑΓΙΑΝΝΑΚΗΣ ΔΗΜΗΤΡΙΟΣ\nMD\, PhD\, Παθολόγος-Ηπατολόγος\, Ακαδημαϊκός Υπότροφος\, Πανεπιστημιακή Γαστρεντερολογική Κλινική\, Γ.Ν.Α. «Λαϊκό» \nΚΑΡΑΓΙΑΝΝΗΣ ΔΗΜΗΤΡΙΟΣ\nMDD\, PhD\, Γαστρεντερολόγος\, Ιατρικό Κέντρο Αθηνών \nΚΑΡΑΓΙΑΝΝΗΣ ΔΗΜΗΤΡΙΟΣ\nΔιαιτολόγος \nΚΑΡΑΜΑΝΩΛΗΣ ΓΕΩΡΓΙΟΣ\nΑναπληρωτής Καθηγητής Γαστρεντερολογίας\, Ιατρική Σχολή Ε.Κ.Π.Α.\, Πανεπιστημιακή Γαστρεντερολογική Κλινική\, Γ.Ν.Α. «Λαϊκό» \nΚΑΡΟΥΜΠΑΛΗΣ ΙΩΑΝΝΗΣ\nMD\, PhD\, Διευθυντής Γαστρεντερολόγος\, Γ.Ν.Α «Γ. Γεννηματάς» \nΚΑΤΣΑΝΟΣ ΚΩΝΣΤΑΝΤΙΝΟΣ\nΑναπληρωτής Καθηγητής Γαστρεντερολογίας\, Τμήμα Ιατρικής\, Πανεπιστήμιο Ιωαννίνων \nΚΑΤΩΠΟΔΗ ΚΩΝΣΤΑΝΤΙΝΑ\nΓαστρεντερολόγος \nΚΟΝΤΟΓΙΑΝΝΗ ΜΕΡΟΠΗ\nΕπίκουρη Καθηγήτρια Κλινικής Διατροφής\, Τμήμα Επιστήμης Διαιτολογίας-Διατροφής\, Χαροκόπειο Πανεπιστήμιο \nΚΟΥΤΡΟΥΜΠΑΚΗΣ ΙΩΑΝΝΗΣ\nΚαθηγητής Γαστρεντερολογίας\, Ιατρική Κρήτης \nΚΥΠΡΑΙΟΣ ΔΗΜΗΤΡΙΟΣ\nΕπιμελητής Β\, Γαστρεντερολογικό Τμήμα\, Γ.Α.-Ο.Ν.Α. «Άγιος Σάββας» \nΛΙΑΤΣΟΣ ΧΡΗΣΤΟΣ\nMD\, PhD\, FEBGH\, Διευθυντής Γαστρεντερολογικής Κλινικής\, 401 Γ.Σ.Ν.Α. \nΜΑΝΤΖΑΡΗΣ ΓΕΡΑΣΙΜΟΣ\nΓαστρεντερολόγος\, Συντονιστής Διευθυντής\, Γαστρεντερολογικό Τμήμα\, Γ.Ν.Α. «Ευαγγελισμός - Οφθαλμιατρείο - Πολυκλινική» \nΜΑΝΩΛΑΚΟΠΟΥΛΟΣ ΣΠΗΛΙΟΣ\nΑναπληρωτής Καθηγητής Παθολογίας-Γαστρεντερολογίας\, Ιατρική Σχολή Ε.Κ.Π.Α. \nΜΕΛΑ ΜΑΡΙΑ\nΓαστρεντερολόγος\, Επιμελήτρια Α’\, Γ.Ν.Α. «Ο Ευαγγελισμός – Οφθαλμιατρείο - Πολυκλινική» \nΜΙΧΟΠΟΥΛΟΣ ΣΠΥΡΟΣ\nΣυντονιστής Διευθυντής Γαστρεντερολογικής Κλινικής\, Γ.Ν.Α. «Αλεξάνδρα» \nΜΠΑΜΙΑΣ ΓΕΩΡΓΙΟΣ\nΑναπληρωτής Καθηγητής Γαστρεντερολογίας\, Ιατρική Σχολή Ε.Κ.Π.Α.\, Γ.Ν.Ν.Θ.Α. «Η Σωτηρία» \nΞΗΡΟΥΧΑΚΗΣ ΗΛΙΑΣ\nΓαστρεντερολόγος \nΟΙΚΟΝΟΜΟΥ ΜΙΧΑΛΗΣ\nΓαστρεντερολόγος \nΠΑΠΑΔΟΠΟΥΛΟΣ ΝΙΚΟΛΑΟΣ\nΠαθολόγος\, Α’ Παθολογική Κλινική\, 417 ΝΙΜΤΣ\, Διδάκτωρ Ιατρικής Σχολής Πανεπιστημίου Αθηνών \nΠΑΠΑΚΩΝΣΤΑΝΤΙΝΟΥ ΙΩΑΝΝΗΣ\nΑναπληρωτής Καθηγητής Χειρουργικής\, Ε.Κ.Π.Α. \nΠΑΠΑΣΤΕΡΓΙΟΥ ΒΑΣΙΛΕΙΟΣ\nΕπικουρικός Γαστρεντερολόγος\, «Κωνσταντοπούλειο» Γ.Ν. Νέας Ιωνίας-Πατησίων \nΠΑΠΑΧΡΗΣΤΟΣ ΠΑΡΑΣΚΕΥΑΣ\nΔιαιτολόγος-Διατροφολόγος\, M.Sc.\, Ιδρυτής του medNutrition.gr \nΠΑΡΑΣΚΕΥΑ ΚΩΝΣΤΑΝΤΙΝΑ\nMD\, PhD\, FEBGH\, Γαστρεντερολόγος\, Διευθύντρια Ε.Σ.Υ.\, Επιστημονικά Υπεύθυνη Γαστρεντερολογικού Τμήματος\, «Κωνσταντοπούλειο» Γ.Ν. Νέας Ιωνίας-Πατησίων \nΠΑΣΠΑΤΗΣ ΓΡΗΓΟΡΙΟΣ\nΣυντονιστής Διευθυντής Γαστρεντερολογικού Τμήματος\, Γ.Ν. Ηρακλείου «Βενιζέλειο-Πανάνειο» \nΠΕΝΕΣΗΣ ΓΕΩΡΓΙΟΣ\nConsultant Gastroenterologist Royal Lancaster Infirmary\, University Hospitals of Morecambe Bay NHS Foundation Trust \nΠΟΤΑΜΙΑΝΟΣ ΣΠΥΡΟΣ\nΚαθηγητής Γαστρεντερολογίας\, Διευθυντής Γαστρεντερολογικής Κλινικής\, Π.Γ.Ν.Θ. \nΡΟΥΣΣΟΣ ΑΝΑΣΤΑΣΙΟΣ\nΓαστρεντερολόγος\, Διδάκτωρ Ιατρικής Σχολής \nΡΩΜΑ ΕΛΕΥΘΕΡΙΑ\nΟμότιμη Καθηγήτρια Παιδιατρικής Γαστρεντερολογίας Πανεπιστημίου Αθηνών\, Επιστημονική Διευθύντρια Παιδογαστρεντερολογικού Τμήματος\, Νοσοκομείο Παίδων «Μητέρα» \nΣΑΜΩΝΑΚΗΣ ΔΗΜΗΤΡΙΟΣ\nΕπιμελητής Α’\, Γαστρεντερολόγος-Ηπατολόγος\, Πανεπιστημιακή Γαστρεντερολογική Κλινική\, Π.Γ.Ν. Ηρακλείου \nΣΓΟΥΡΟΣ ΣΠΥΡΟΣ\nΑναπληρωτής Διευθυντής Γαστρεντερολογικής Κλινικής\, Ν.Ν.Α. \nΣΕΒΑΣΤΙΑΝΟΣ ΒΑΣΙΛΕΙΟΣ\nΕπιμελητής Παθολογίας-Ηπατολογίας\, Δ’ Παθολογική Κλινική & Ηπατολογικό Εξωτερικό Ιατρείο\, Γ.Ν.Α. «Ο Ευαγγελισμός» \nΣΙΑΛΒΕΡΑ ΘΕΟΔΏΡΑ-ΕΙΡΉΝΗ\nPhD\, Κλινική Διαιτολόγος-Διατροφολόγος\, Γ.Ο.Ν.Κ. «Οι Άγιοι Ανάργυροι»\, Πρόεδρος Πανελληνίου Συλλόγου Διαιτολόγων-Διατροφολόγων \nΤΑΜΠΑΚΟΠΟΥΛΟΣ ΔΗΜΗΤΡΙΟΣ\nΔιευθυντής Γαστρεντερολογικής Κλινικής\, Ευρωκλινική Αθηνών \nΤΖΙΛΒΕΣ ΔΗΜΗΤΡΙΟΣ\nΓαστρεντερολόγος\, Διευθυντής Γαστρεντερολογικής Κλινικής\, «Θεαγένειο» Α.Ν.Θ. \nΤΡΙΑΝΤΑΦΥΛΛΟΥ ΚΩΝΣΤΑΝΤΙΝΟΣ\nΑναπληρωτής Καθηγητής Γαστρεντερολογίας\, Ιατρική Σχολή Ε.Κ.Π.Α. \nΤΡΙΑΝΤΟΣ ΧΡΗΣΤΟΣ\nΕπίκουρος Καθηγητής\, Ιατρική Σχολή Πανεπιστημίου Πάτρας\, Π.Π.Γ.Ν. Πατρών \nΤΡΙΜΠΟΝΙΑΣ ΓΕΩΡΓΙΟΣ\nΕπιμελητής Β’ Γαστρεντερολογικού Τμήματος\, Γ.Ν. Νίκαιας-Πειραιά «Άγιος Παντελεήμων» \nΦΑΣΟΥΛΑΣ ΚΩΝΣΤΑΝΤΙΝΟΣ\nΕιδικευόμενος Γαστρεντερολογίας Γαστρεντερολογική Κλινική\, «Θεαγένειο» Α.Ν.Θ. \nΦΙΛΙΠΠΑΚΟΥ ΑΙΚΑΤΕΡΙΝΗ\nΓαστρεντερολόγος\, Επικουρική Επιμελήτρια Β\, Ε.Α.Ν.Π. Μεταξά \nΦΡΑΓΚΟΠΟΥΛΟΥ ΕΛΙΣΑΒΕΤ\nΕπίκουρη Καθηγήτρια Βιολογικής Χημείας Φυσικών Προϊόντων\, Χαροκόπειο Πανεπιστήμιο\, Σχολή Επιστημών Υγείας και Αγωγής\, Τμήμα Επιστήμης Διαιτολογίας-Διατροφής \nΦΥΤΙΛΗ ΠΑΡΑΣΚΕΥΗ\nMD\, PhD\, Γαστρεντερολόγος-Ηπατολόγος\, Επιστημονικός Συνεργάτης Πανεπιστημιακής Γαστρεντερολογικής Κλινικής\, Γ.Ν.Α. «Λαϊκό» \nΦΩΤΕΙΝΟΓΙΑΝΝΟΠΟΥΛΟΥ ΚΑΛΛΙΟΠΗ\nΕιδικευόμενη Γαστρεντερολογίας\, Πα.Γ.Ν. Ηρακλείου \nΧΙΩΤΑΚΑΚΟΥ ΕΥΤΕΡΠΗ\nΓαστρεντερολόγος\, Ιατρικό Κέντρο Αθηνών \nΧΡΙΣΤΟΔΟΥΛΟΥ ΔΗΜΗΤΡΙΟΣ\nΚαθηγητής Γαστρεντερολογίας\, Τμήμα Ιατρικής Πανεπιστημίου Ιωαννίνων\, Διευθυντής Γαστρεντερολογικής Κλινικής\, Π.Γ.Ν. Ιωαννίνων \nΓΕΝΙΚΕΣ ΠΛΗΡΟΦΟΡΙΕΣΗΜΕΡΟΜΗΝΙΑ & ΤΟΠΟΣ ΔΙΕΞΑΓΩΓΗΣ ΤΟΥ ΣΥΝΕΔΡΙΟΥ15-17 Φεβρουαρίου 2019\nΞενοδοχείο Royal Olympic\, Αίθουσα Ολυμπία\nΘα χορηγηθούν μόρια Συνεχιζόμενης Ιατρικής Εκπαίδευσης (CME-CPD credits) από τον Πανελλήνιο Ιατρικό Σύλλογο \nΟΡΓΑΝΩΣΗ ΚΑΙ ΓΡΑΜΜΑΤΕΙΑ ΣΥΝΕΔΡΙΟΥΕΛ.Ι.ΓΑΣΤ\nΜαιάνδρου 15\n 115 28 Αθήνα\n Τηλ. επικοιν.: 210 723 1332\n E-mail: info@eligast.gr \nΓραμματεία\nFocus on Health\nΙωάννου Γενναδίου 16\n 115 21 Αθήνα\n Τηλ. επικοιν.: 210 722 3046\n E-mail: events@focusonhealth.gr \nΩράριο λειτουργίας γραμματείας εκδήλωσης\nΠαρασκευή\, 15 Φεβρουαρίου 2019 08:00-20:30\nΣάββατο\, 16 Φεβρουαρίου 2019 08:30-20:30\nΚυριακή\, 17 Φεβρουαρίου 2019 09:00-13:15 \nΕμπορική έκθεσηΚατά τη διάρκεια της Εκδήλωσης θα λειτουργεί έκθεση φαρμακευτικών και ιατρικών προϊόντων και ιατρικών εκδόσεων από εκδοτικούς οίκους και βιβλιοπωλεία για την ενημέρωση των συμμετεχόντων. \nΕγγραφέςΟι εγγραφές θα γίνονται δεκτές μόνο κατόπιν συμπλήρωσης και υπογραφής του σχετικού δελτίου εγγραφής στη γραμματεία του Συνεδρίου. \nΚάρτα εισόδου στον συνεδριακό χώρο και barcodeΓια την παρακολούθηση των εργασιών του Συνεδρίου οι σύνεδροι είναι απαραίτητο να φέρουν τη διακριτική κονκάρδα εγγραφής που χορηγείται από τη γραμματεία της Εκδήλωσης και πρέπει να τη φορούν καθ’ όλη τη διάρκεια της παραμονής τους στο συνεδριακό χώρο. Στην κάρτα αυτή υπάρχει γραμμωτός κώδικας (barcode) τον οποίο πρέπει ο σύνεδρος να σαρώνει (scan) σε ειδικό μηχάνημα σάρωσης (scanner)\, που υπάρχει στις εισόδους της συνεδριακής αίθουσας\, κάθε φορά κατά την είσοδο και έξοδό του από αυτή. Με τον τρόπο αυτό θα γίνεται καταμέτρηση των ωρών παρακολούθησης κάθε συνέδρου. Εφόσον ο σύνεδρος καλύψει πάνω από το 60% των συνολικών ωρών του προγράμματος δικαιούται να παραλάβει το πιστοποιητικό παρακολούθησης. \nΚέντρο παραλαβής διαφανειών (slide center/preview room)Η αίθουσα ομιλιών παρέχει εξοπλισμό με Η/Υ για παρουσίαση μέσω PowerPoint\, DVD & Data Video Projector. Οι ομιλητές παρακαλούνται να παραδίδουν το υλικό της παρουσίασης τους (USB\, CD-ROM) τουλάχιστον μία (1) ώρα πριν την έναρξη της ομιλίας τους στο κέντρο παραλαβής διαφανειών. Μόρια συνεχιζόμενης ιατρικής εκπαίδευσης Στους συμμετέχοντες ιατρούς θα χορηγηθούν 18 μόρια Συνεχιζόμενης Ιατρικής Εκπαίδευσης (CME-CPD credits) από τον Πανελλήνιο Ιατρικό Σύλλογο\, με την προϋπόθεση παρακολούθησης τουλάχιστον του 60% των ωρών του προγράμματος και την παράδοση του δελτίου αξιολόγησης. \nΠιστοποιητικό παρακολούθησηςΤο Πιστοποιητικό Παρακολούθησης θα παραλαμβάνεται από τη γραμματεία την τελευταία ημέρα της Εκδήλωσης με επίδειξη της κονκάρδας εγγραφής. Απαραίτητη προϋπόθεση για την παραλαβή του πιστοποιητικού παρακολούθησης είναι η συμπλήρωση τουλάχιστον του 60% των συνολικών ωρών του επιστημονικού προγράμματος και η παράδοση στη γραμματεία συμπληρωμένου του δελτίου αξιολόγησης. Στο πιστοποιητικό θα αναγράφεται μοριοδότηση από τον Πανελλήνιο Ιατρικό Σύλλογο (CME-CPD Credits). \nΑνάρτηση στην ιστοσελίδα του ΕΛ.Ι.ΓΑΣΤ.Οι διαφάνειες των εισηγητών που θα δώσουν σχετική άδεια θα αναρτηθούν μετά την εκδήλωση στην ιστοσελίδα του ΕΛ.Ι.ΓΑΣΤ. (www.eligast.gr).
URL:https://www.hsg.gr/event/14%ce%b7-%cf%80%ce%b1%ce%bd%ce%b5%ce%bb%ce%bb%ce%ae%ce%bd%ce%b9%ce%b1-%ce%b5%ce%ba%cf%80%ce%b1%ce%b9%ce%b4%ce%b5%cf%85%cf%84%ce%b9%ce%ba%ce%ae-%cf%83%cf%85%ce%bd%ce%ac%ce%bd%cf%84%ce%b7%cf%83%ce%b7/
LOCATION:Ξενοδοχείο Royal Olympic\, Αθ. Διάκου 28\, Αθήνα\, 117 43
CATEGORIES:Συνέδριο
ATTACH;FMTTYPE=image/jpeg:https://www.hsg.gr/wp-content/uploads/2019/01/14i-panellinia-ekpaideftiki-synantisi-eligast.jpg
END:VEVENT
END:VCALENDAR