BEGIN:VCALENDAR
VERSION:2.0
PRODID:-//Ελληνική Γαστρεντερολογική Εταιρεία - ECPv6.15.20//NONSGML v1.0//EN
CALSCALE:GREGORIAN
METHOD:PUBLISH
X-ORIGINAL-URL:https://www.hsg.gr
X-WR-CALDESC:Events for Ελληνική Γαστρεντερολογική Εταιρεία
REFRESH-INTERVAL;VALUE=DURATION:PT1H
X-Robots-Tag:noindex
X-PUBLISHED-TTL:PT1H
BEGIN:VTIMEZONE
TZID:Europe/Athens
BEGIN:DAYLIGHT
TZOFFSETFROM:+0200
TZOFFSETTO:+0300
TZNAME:EEST
DTSTART:20190331T010000
END:DAYLIGHT
BEGIN:STANDARD
TZOFFSETFROM:+0300
TZOFFSETTO:+0200
TZNAME:EET
DTSTART:20191027T010000
END:STANDARD
BEGIN:DAYLIGHT
TZOFFSETFROM:+0200
TZOFFSETTO:+0300
TZNAME:EEST
DTSTART:20200329T010000
END:DAYLIGHT
BEGIN:STANDARD
TZOFFSETFROM:+0300
TZOFFSETTO:+0200
TZNAME:EET
DTSTART:20201025T010000
END:STANDARD
BEGIN:DAYLIGHT
TZOFFSETFROM:+0200
TZOFFSETTO:+0300
TZNAME:EEST
DTSTART:20210328T010000
END:DAYLIGHT
BEGIN:STANDARD
TZOFFSETFROM:+0300
TZOFFSETTO:+0200
TZNAME:EET
DTSTART:20211031T010000
END:STANDARD
END:VTIMEZONE
BEGIN:VEVENT
DTSTART;TZID=Europe/Athens:20200605T100000
DTEND;TZID=Europe/Athens:20200605T200000
DTSTAMP:20260421T070455
CREATED:20200522T095019Z
LAST-MODIFIED:20200522T095414Z
UID:16286-1591351200-1591387200@www.hsg.gr
SUMMARY:5 Continents 12 CitiesEndoscopy On AirYour International Live Stream Meeting for GI Endoscopy
DESCRIPTION:Dear friends of GI endoscopy\, \nWe hope that you all are keeping well during these times! It is our great pleasure to cordially invite you to join us for the first worldwide endoscopic livestream on June 5 this year – more than 12 cities from East to West will present you relevant cases performed by renown endoscopists. The format does not require any travel and respects indications for GI endoscopy presently valid at each participating unit. \nLooking forward to meeting you then !\nAlessandro Repici and Thomas Rösch\, on behalf of EOA Team \nRegister now (FREE)
URL:https://www.hsg.gr/event/5-continents-12-citiesendoscopy-on-airyour-international-live-stream-meeting-for-gi-endoscopy/
LOCATION:Αττική
CATEGORIES:Εκδήλωση
ATTACH;FMTTYPE=image/jpeg:https://www.hsg.gr/wp-content/uploads/2020/05/endoscopy-on-air.jpg
END:VEVENT
END:VCALENDAR