BEGIN:VCALENDAR
VERSION:2.0
PRODID:-//Ελληνική Γαστρεντερολογική Εταιρεία - ECPv6.15.20//NONSGML v1.0//EN
CALSCALE:GREGORIAN
METHOD:PUBLISH
X-WR-CALNAME:Ελληνική Γαστρεντερολογική Εταιρεία
X-ORIGINAL-URL:https://www.hsg.gr
X-WR-CALDESC:Events for Ελληνική Γαστρεντερολογική Εταιρεία
REFRESH-INTERVAL;VALUE=DURATION:PT1H
X-Robots-Tag:noindex
X-PUBLISHED-TTL:PT1H
BEGIN:VTIMEZONE
TZID:Europe/Athens
BEGIN:DAYLIGHT
TZOFFSETFROM:+0200
TZOFFSETTO:+0300
TZNAME:EEST
DTSTART:20180325T010000
END:DAYLIGHT
BEGIN:STANDARD
TZOFFSETFROM:+0300
TZOFFSETTO:+0200
TZNAME:EET
DTSTART:20181028T010000
END:STANDARD
BEGIN:DAYLIGHT
TZOFFSETFROM:+0200
TZOFFSETTO:+0300
TZNAME:EEST
DTSTART:20190331T010000
END:DAYLIGHT
BEGIN:STANDARD
TZOFFSETFROM:+0300
TZOFFSETTO:+0200
TZNAME:EET
DTSTART:20191027T010000
END:STANDARD
BEGIN:DAYLIGHT
TZOFFSETFROM:+0200
TZOFFSETTO:+0300
TZNAME:EEST
DTSTART:20200329T010000
END:DAYLIGHT
BEGIN:STANDARD
TZOFFSETFROM:+0300
TZOFFSETTO:+0200
TZNAME:EET
DTSTART:20201025T010000
END:STANDARD
END:VTIMEZONE
BEGIN:VEVENT
DTSTART;VALUE=DATE:20191207
DTEND;VALUE=DATE:20191209
DTSTAMP:20260421T004132
CREATED:20190416T144610Z
LAST-MODIFIED:20190416T144610Z
UID:11891-1575676800-1575849599@www.hsg.gr
SUMMARY:17η Πανελλήνια Επιστημονική Εκδήλωση της ΕΠΕΓΕ
DESCRIPTION:ΟΡΓΑΝΩΤΙΚΗ ΕΠΙΤΡΟΠΗΠρόεδρος\nΚωνσταντίνα Παρασκευά\nΜέλη\nΔ.Σ. ΕΠΕΓΕ \nΔΙΟΙΚΗΤΙΚΟ ΣΥΜΒΟΥΛΙΟ\nΕΠ.Ε.Γ.Ε.Πρόεδρος\nΠ. Κασαπίδης\nΑντιπρόεδρος\nΘ. Τσιώνης\nΓεν. Γραμματέας\nΣ. Βρακάς\nΕιδ. Γραμματέας\nΚ. Ζωγράφος\nΤαμίας\nΣ. Γούλας\nΜέλη\nΗ. Μπουζάκης\nΜ. Μυλωνάκη \nΣτο πλαίσιο της (17ης) Εκπαιδευτικής Διημερίδας της Επαγγελματικής Ένωσης Γαστρεντερολόγων Ελλάδας \nΣΕΜΙΝΑΡΙΟ ΑΜΕΣΗΣ ΥΠΟΣΤΗΡΙΞΗΣ ΤΗΣ ΖΩΗΣ (ILS)\nΠαρασκευή 6 Δεκεμβρίου 2019ΝΟΣΗΛΕΥΤΙΚΗ HMEΡΙΔΑ\nΣάββατο 7 Δεκεμβρίου 2019ΠρόλογοςΑγαπητοί Συνάδελφοι\, \nΜε ιδιαίτερη χαρά σας προσκαλούμε στην καθιερωμένη Επιστημονική Εκδήλωση της Επαγγελματικής Ένωσης Γαστρεντερολόγων Ελλάδας [ΕΠ.Ε.Γ.Ε.] η οποία θα πραγματοποιηθεί στις 7 και 8 Δεκεμβρίου 2019\, στο ξενοδοχείο Divani Caravel\, στην Αθήνα. \nΗ φετινή\, (17η) εκδήλωση έχει ως θεματική ενότητα την Ενδοσκόπηση. \nΣτόχος είναι η βελτίωση της καθημερινής ενδοσκοπικής πρακτικής μέσα από σειρά εκπαιδευτικών διαλέξεων\, κλινικών ερωτήσεων και απαντήσεων\, αλλά και βίντεο παρουσιάσεων. \nΣτη Διημερίδα θα παρουσιαστούν οι τελευταίες εξελίξεις τόσο στη διαγνωστική όσο και στη θεραπευτική ενδοσκόπηση\, και θα συζητηθούν μετ’ επιτάσεως θέματα ασφάλειας και ποιότητας καθώς και θέματα λειτουργίας του ενδοσκοπικού ιατρείου. \nΟι προκλήσεις στην εποχή μας είναι πολλές και προκύπτουν από την ανάγκη εξισορρόπησης της καινοτομίας και της ποιότητας με το κόστος της ενδοσκόπησης και των αναλώσιμων\, καθώς και την ορθή διαχείριση των ασθενών σύμφωνα με τις πιο πρόσφατες κατευθυντήριες επιστημονικές οδηγίες. \nΠαράλληλα\, θα διενεργηθεί Νοσηλευτική Επιστημονική Ημερίδα για τις Νοσηλεύτριες και τους Νοσηλευτές των Ενδοσκοπήσεων\, με διαλέξεις και κατευθυντήριες οδηγίες πάνω σε θέματα της καθημερινής τους πρακτικής. \nΠροσβλέπουμε στην ενεργό συμμετοχή σας\, στοιχείο εντελώς απαραίτητο για την επιτυχία της Διημερίδας \nΜε συναδελφικούς χαιρετισμούς\nΗ Πρόεδρος της Οργανωτικής Επιτροπής\nΚωνσταντίνα Παρασκευά \nΓΕΝΙΚΕΣ ΠΛΗΡΟΦΟΡΙΕΣΧΡΟΝΟΣ ΔΙΗΜΕΡΙΔΑΣ ΕΠΕΓΕ 29 & 33\n ΣΕΠΤΕΜΒΡΙΟΥ 2018 \nΤΟΠΟΣ ΕΚΔΗΛΩΣΗΣ Ξενοδοχείο DIVANI CARAVEL\n Αίθουσα : ΙΛΙΣΣΟΣ \nΧΡΟΝΟΣ ΣΕΜΙΝΑΡΙΟ ΑΜΕΣΗΣ ΥΠΟΣΤΗΡΙΞΗΣ ΤΗΣ ΖΩΗΣ (ILS) 6 ΔΕΚΕΜΒΡΙΟΥ 2019 \nΝΟΣΗΛΕΥΤΙΚΗ ΗΜΕΡΙΔΑ 7 ΔΕΚΕΜΒΡΙΟΥ 2019 \nΤΟΠΟΣ ΕΚΔΗΛΩΣΗΣ Ξενοδοχείο DIVANI CARAVEL \nΠΛΗΡΟΦΟΡΙΕΣ - ΓΡΑΜΜΑΤΕΙΑΕΠ.Ε.Γ.Ε.\nΛ. Δημοκρατίας 67\n154 51 Αθήνα\nΤ: 210 672 7531-3\nF: 210 672 7535\nE-mail: info@epege.gr \nCONGRESS WORLD Μον. ΙΚΕ Οργάνωση Συνεδρίων\nΟργάνωση Συνεδρίων\nΜιχαλακοπούλου 27\n115 28 Αθήνα\nΤ: 210 721 0052\, 210 721 0001\nF: 210 721 0051\nE-mail: cv@congressworld.gr\nwww : http://www.congressworld.gr \nΔΙΚΑΙΩΜΑ ΣΥΜΜΕΤΟΧΗΣΗ εγγραφή σας στη γραμματεία της διημερίδας εξασφαλίζει την παρακολούθησή της\, την παραλαβή του συνεδριακού υλικού\, την προσφορά καφέ και ελαφρού γεύματος καθώς και δωρεάν πρόσβαση στο ασύρματο δίκτυο του χώρου. \n\n\n\nΓαστρεντερολόγοι/Μέλη ΕΠΕΓΕ\n40€\n(ετήσια συνδρομή)\n\n\nΜη Γαστρεντερολόγοι\n50€\n\n\nΕιδικευόμενοι - Νοσηλευτές - Φοιτητές\nΔΩΡΕΑΝ\n\n\nΣεμινάριο Αναζωογόνησης 6 Δεκεμβρίου 2019\nΑπαιτείται δήλωση προεγγραφής\n\n\n\nΒΑΣΙΚΗ ΘΕΜΑΤΟΛΟΓΙΑ\nΚΑΛΕΣ ΠΡΑΚΤΙΚΕΣ ΚΟΛΟΝΟΣΚΟΠΗΣΗΣ \n\nΒΕΛΤΙΣΤΗ ΧΡΗΣΗ ΔΙΑΘΕΡΜΙΑΣ \n\nΟΔΟΝΤΩΤΑ ΑΔΕΝΩΜΑΤΑ \n\nCOLD SNARE ΠΟΛΥΠΕΚΤΟΜΗ \n\nΚΟΛΟΝΟΣΚΟΠΗΣΗ ΣΕ ΙΦΝΕ \n\nΕΠΕΙΓΟΥΣΕΣ ΕΝΔΟΣΚΟΠΗΣΕΙΣ \n\nΕΝΔΟΣΚΟΠΙΚΗ ΚΑΨΟΥΛΑ\, ΘΕΜΑΤΑ ΕRCP KAI EUS \n\nΕΠΙΠΛΟΚΕΣ ΕΝΔΟΣΚΟΠΗΣΗΣ \n\nΟΙΣΟΦΑΓΟΣ BARRETT - ΝΕΟΠΛΑΣΙΑ ΟΙΣΟΦΑΓΟΥ \n\nΘΕΜΑΤΑ ΑΠΟΛΥΜΑΝΣΗΣ ΚΑΙ ΚΑΘΑΡΙΣΜΟΥ ΕΝΔΟΣΚΟΠΙΩΝ \n\nΔΕΙΚΤΕΣ ΑΠΟΔΟΣΗΣ ΕΝΔΟΣΚΟΠΙΚΩΝ ΥΠΗΡΕΣΙΩΝ \n\nΠΕΡΙ ΕΝΔΟΣΚΟΠΙΚΗ ΦΡΟΝΤΙΔΑ ΑΣΘΕΝΟΥΣ \n\nΤΕΧΝΗΤΗ ΝΟΗΜΟΣΥΝΗ ΣΤΗ ΓΑΣΤΡΕΝΤΕΡΟΛΟΓΙΑ \nΝΟΣΗΛΕΥΤΙΚΗ ΗΜΕΡΙΔΑ\nΠΕΡΙΕΝΔΟΣΚΟΠΙΚΗ ΦΡΟΝΤΙΔΑ ΑΣΘΕΝΟΥΣ \n\nΚΑΘΗΚΟΝΤΑ ΝΟΣΗΛΕΥΤΙΚΟΥ ΠΡΟΣΩΠΙΚΟΥ \n\nCHECK LIST ΕΝΔΟΣΚΟΠΗΣΗΣ \n\nΚΑΤΑΣΤΟΛΗ ΣΤΗΝ ΕΝΔΟΣΚΟΠΗΣΗ \n\nΘΕΜΑΤΑ ΚΑΘΑΡΙΣΜΟΥ ΚΑΙ ΑΠΟΛΥΜΑΝΣΗΣ \n\nΕΠΑΓΓΕΛΜΑΤΙΚΟΙ ΚΙΝΔΥΝΟΙ \n\nΠΟΛΥΠΟΔΕΣ ΠΑΧΕΟΣ ΕΝΤΕΡΟΥ \n\nΟΙ ΝΟΣΗΛΕΥΤΕΣ ΣΤΗΝ ΕΠΕΙΓΟΥΣΑ ΕΝΔΟΣΚΟΠΗΣΗ
URL:https://www.hsg.gr/event/17%ce%b7-%cf%80%ce%b1%ce%bd%ce%b5%ce%bb%ce%bb%ce%ae%ce%bd%ce%b9%ce%b1-%ce%b5%cf%80%ce%b9%cf%83%cf%84%ce%b7%ce%bc%ce%bf%ce%bd%ce%b9%ce%ba%ce%ae-%ce%b5%ce%ba%ce%b4%ce%ae%ce%bb%cf%89%cf%83%ce%b7-%cf%84/
LOCATION:Divani Caravel Hotel\, Βασιλέως Αλεξάνδρου 2\, Αθήνα\, Αττική\, 161 21\, Ελλάδα
CATEGORIES:Διημερίδες
ATTACH;FMTTYPE=image/jpeg:https://www.hsg.gr/wp-content/uploads/2019/04/17-synedrio-epege.jpg
ORGANIZER;CN="%CE%95%CE%A0%CE%95%CE%93%CE%95":MAILTO:info@epege.gr
END:VEVENT
END:VCALENDAR