BEGIN:VCALENDAR
VERSION:2.0
PRODID:-//Ελληνική Γαστρεντερολογική Εταιρεία - ECPv6.15.20//NONSGML v1.0//EN
CALSCALE:GREGORIAN
METHOD:PUBLISH
X-WR-CALNAME:Ελληνική Γαστρεντερολογική Εταιρεία
X-ORIGINAL-URL:https://www.hsg.gr
X-WR-CALDESC:Events for Ελληνική Γαστρεντερολογική Εταιρεία
REFRESH-INTERVAL;VALUE=DURATION:PT1H
X-Robots-Tag:noindex
X-PUBLISHED-TTL:PT1H
BEGIN:VTIMEZONE
TZID:Europe/Athens
BEGIN:DAYLIGHT
TZOFFSETFROM:+0200
TZOFFSETTO:+0300
TZNAME:EEST
DTSTART:20180325T010000
END:DAYLIGHT
BEGIN:STANDARD
TZOFFSETFROM:+0300
TZOFFSETTO:+0200
TZNAME:EET
DTSTART:20181028T010000
END:STANDARD
BEGIN:DAYLIGHT
TZOFFSETFROM:+0200
TZOFFSETTO:+0300
TZNAME:EEST
DTSTART:20190331T010000
END:DAYLIGHT
BEGIN:STANDARD
TZOFFSETFROM:+0300
TZOFFSETTO:+0200
TZNAME:EET
DTSTART:20191027T010000
END:STANDARD
BEGIN:DAYLIGHT
TZOFFSETFROM:+0200
TZOFFSETTO:+0300
TZNAME:EEST
DTSTART:20200329T010000
END:DAYLIGHT
BEGIN:STANDARD
TZOFFSETFROM:+0300
TZOFFSETTO:+0200
TZNAME:EET
DTSTART:20201025T010000
END:STANDARD
END:VTIMEZONE
BEGIN:VEVENT
DTSTART;TZID=Europe/Athens:20191123T083000
DTEND;TZID=Europe/Athens:20191123T150000
DTSTAMP:20260420T194430
CREATED:20191119T165631Z
LAST-MODIFIED:20191119T165631Z
UID:13683-1574497800-1574521200@www.hsg.gr
SUMMARY:Σύνοψη AASLD 2019
DESCRIPTION:Επιστημονικό ΠρόγραμμαΣάββατο\, 23 Νοεμβρίου 2019\n\n\n\n08.30-09.00\nΕγγραφές\n\n\n09.00-09.30\nΕισαγωγή\n\n\n09.30-11.30\n1ο Στρογγυλό ΤραπέζιIογενείς ΗπατίτιδεςΠροεδρείο: Γ. Παπαθεοδωρίδης\, Α. Χατζάκης\n\n\n09.30-10.30\nΗπατίτιδα ΒΟμιλητής: Σ. Μανωλακόπουλος\n\n\n10.30-11.30\nΗπατίτιδα CΟμιλητής: Ε. Σινάκος\n\n\n11.30-12.30\n2ο Στρογγυλό ΤραπέζιΜη ιογενείς χρόνιες ηπατοπάθειεςΠροεδρείο: Ι. Ελευσινιώτης\, Γ. Παπαθεοδωρίδης\n\n\n11.30-12.00\nΜη αλκοολική λιπώδης νόσος ήπατοςΟμιλήτρια: Μ. Ντόιτς\n\n\n12.00-12.30\nΑυτοάνοσα – Χολοστατικά νοσήματα ήπατοςΟμιλητής: Ν. Παπαδόπουλος\n\n\n12.30-13.00\nΔιάλειμμα - Καφές - Ελαφρύ γεύμα\n\n\n13.00-14.30\n3ο Στρογγυλό ΤραπέζιΠροχωρημένη ηπατική νόσοςΠροεδρείο: I. Βλαχογιαννάκος\, Ι. Κοσκίνας\n\n\n13.00-13.30\nΊνωση - Κίρρωση - Πυλαία υπέρτασηΟμιλητής: X. Τριάντος\n\n\n13.30-14.00\nΚαρκίνος ήπατοςΟμιλητής: Ε. Χολόγκιτας\n\n\n14.00-14.30\nΜεταμόσχευση ήπατοςΟμιλητής: B. Σεβαστιανός\n\n\n14.30-15.00\nΣυμπεράσματα - Λήξη\n\n\n\nΓΕΝΙΚΕΣ ΠΛΗΡΟΦΟΡΙΕΣΥΠΟ ΤΗΝ ΑΙΓΙΔΑΕλληνικής Εταιρείας Μελέτης Ήπατος\nΙατρική Σχολή Ε.Κ.Π.Α. \nΧΡΟΝΟΣ ΔΙΕΞΑΓΩΓΗΣ23 Νοεμβρίου 2019 \nΤΟΠΟΣ ΔΙΕΞΑΓΩΓΗΣΑμφιθέατρο «Φ. Φέσσας»\, Γ.Ν.Α. «Λαϊκό»\nΑγίου Θωμά 17\n115 27\, Αθήνα \nΓΡΑΜΜΑΤΕΙΑ Focus on Health Ε.Π.Ε.\n Ιωάννου Γενναδίου 16\n 115 21 Αθήνα\n Τ: 210 722 3046\n F: 210 722 3220\n E-mail: events@focusonhealth.gr \nΚατεβάστε το ΠρόγραμμαΠΡΟΓΡΑΜΜΑ ΗΜΕΡΙΔΑΣ
URL:https://www.hsg.gr/event/%cf%83%cf%8d%ce%bd%ce%bf%cf%88%ce%b7-aasld-2019/
LOCATION:Αμφιθέατρο «Φ. Φέσσας»\, Γ.Ν.Α. «Λαϊκό»\, Αγίου Θωμά 17\, Αθήνα\, 115 27
CATEGORIES:Ημερίδα
ATTACH;FMTTYPE=image/jpeg:https://www.hsg.gr/wp-content/uploads/2019/11/aasld-2019.jpg
END:VEVENT
END:VCALENDAR