BEGIN:VCALENDAR
VERSION:2.0
PRODID:-//Ελληνική Γαστρεντερολογική Εταιρεία - ECPv6.15.20//NONSGML v1.0//EN
CALSCALE:GREGORIAN
METHOD:PUBLISH
X-WR-CALNAME:Ελληνική Γαστρεντερολογική Εταιρεία
X-ORIGINAL-URL:https://www.hsg.gr
X-WR-CALDESC:Events for Ελληνική Γαστρεντερολογική Εταιρεία
REFRESH-INTERVAL;VALUE=DURATION:PT1H
X-Robots-Tag:noindex
X-PUBLISHED-TTL:PT1H
BEGIN:VTIMEZONE
TZID:Europe/Athens
BEGIN:DAYLIGHT
TZOFFSETFROM:+0200
TZOFFSETTO:+0300
TZNAME:EEST
DTSTART:20180325T010000
END:DAYLIGHT
BEGIN:STANDARD
TZOFFSETFROM:+0300
TZOFFSETTO:+0200
TZNAME:EET
DTSTART:20181028T010000
END:STANDARD
BEGIN:DAYLIGHT
TZOFFSETFROM:+0200
TZOFFSETTO:+0300
TZNAME:EEST
DTSTART:20190331T010000
END:DAYLIGHT
BEGIN:STANDARD
TZOFFSETFROM:+0300
TZOFFSETTO:+0200
TZNAME:EET
DTSTART:20191027T010000
END:STANDARD
BEGIN:DAYLIGHT
TZOFFSETFROM:+0200
TZOFFSETTO:+0300
TZNAME:EEST
DTSTART:20200329T010000
END:DAYLIGHT
BEGIN:STANDARD
TZOFFSETFROM:+0300
TZOFFSETTO:+0200
TZNAME:EET
DTSTART:20201025T010000
END:STANDARD
END:VTIMEZONE
BEGIN:VEVENT
DTSTART;TZID=Europe/Athens:20190614T083000
DTEND;TZID=Europe/Athens:20190614T170000
DTSTAMP:20260420T132011
CREATED:20190531T124853Z
LAST-MODIFIED:20190531T124853Z
UID:12158-1560501000-1560531600@www.hsg.gr
SUMMARY:«Νεότερες Εξελίξεις στη Γαστρεντερολογία»
DESCRIPTION:
URL:https://www.hsg.gr/event/%ce%bd%ce%b5%cf%8c%cf%84%ce%b5%cf%81%ce%b5%cf%82-%ce%b5%ce%be%ce%b5%ce%bb%ce%af%ce%be%ce%b5%ce%b9%cf%82-%cf%83%cf%84%ce%b7-%ce%b3%ce%b1%cf%83%cf%84%cf%81%ce%b5%ce%bd%cf%84%ce%b5%cf%81%ce%bf/
LOCATION:Συνεδριακό Κέντρο «Ν. ΛΟΥΡΟΣ»\, ΜΗΤΕΡΑ\, Ερυθρού Σταυρού 6\, Μαρούσι\, Αττικής\, 151 23
CATEGORIES:Ημερίδα
ATTACH;FMTTYPE=image/jpeg:https://www.hsg.gr/wp-content/uploads/2019/05/neoteres_exelixeis_stin_gastrenterologia_2019.jpg
ORGANIZER;CN="%CE%A4%CE%BC%CE%AE%CE%BC%CE%B1 %CE%92%E2%80%99 %CE%93%CE%B1%CF%83%CF%84%CF%81%CE%B5%CE%BD%CF%84%CE%B5%CF%81%CE%BF%CE%BB%CE%BF%CE%B3%CE%B9%CE%BA%CE%AE%CF%82 %CE%9A%CE%BB%CE%B9%CE%BD%CE%B9%CE%BA%CE%AE%CF%82 %CE%A5%CE%93%CE%95%CE%99%CE%91":MAILTO:www.hygeia.gr
END:VEVENT
END:VCALENDAR