BEGIN:VCALENDAR
VERSION:2.0
PRODID:-//Ελληνική Γαστρεντερολογική Εταιρεία - ECPv6.15.20//NONSGML v1.0//EN
CALSCALE:GREGORIAN
METHOD:PUBLISH
X-ORIGINAL-URL:https://www.hsg.gr
X-WR-CALDESC:Events for Ελληνική Γαστρεντερολογική Εταιρεία
REFRESH-INTERVAL;VALUE=DURATION:PT1H
X-Robots-Tag:noindex
X-PUBLISHED-TTL:PT1H
BEGIN:VTIMEZONE
TZID:Europe/Athens
BEGIN:DAYLIGHT
TZOFFSETFROM:+0200
TZOFFSETTO:+0300
TZNAME:EEST
DTSTART:20180325T010000
END:DAYLIGHT
BEGIN:STANDARD
TZOFFSETFROM:+0300
TZOFFSETTO:+0200
TZNAME:EET
DTSTART:20181028T010000
END:STANDARD
BEGIN:DAYLIGHT
TZOFFSETFROM:+0200
TZOFFSETTO:+0300
TZNAME:EEST
DTSTART:20190331T010000
END:DAYLIGHT
BEGIN:STANDARD
TZOFFSETFROM:+0300
TZOFFSETTO:+0200
TZNAME:EET
DTSTART:20191027T010000
END:STANDARD
BEGIN:DAYLIGHT
TZOFFSETFROM:+0200
TZOFFSETTO:+0300
TZNAME:EEST
DTSTART:20200329T010000
END:DAYLIGHT
BEGIN:STANDARD
TZOFFSETFROM:+0300
TZOFFSETTO:+0200
TZNAME:EET
DTSTART:20201025T010000
END:STANDARD
END:VTIMEZONE
BEGIN:VEVENT
DTSTART;TZID=Europe/Athens:20190525T090000
DTEND;TZID=Europe/Athens:20190525T180000
DTSTAMP:20260420T101451
CREATED:20190521T143816Z
LAST-MODIFIED:20190521T143816Z
UID:12098-1558774800-1558807200@www.hsg.gr
SUMMARY:6η Ημερίδα Σύγχρονη Γαστρεντερολογία - Ηπατολογία
DESCRIPTION:Από τις Κατευθυντήριες Οδηγίες στην Κλινική ΠράξηΕπιστημονικό ΠρόγραμμαΣάββατο\, 25 Μαΐου 2018\n\n\n\n09.00-09.15\nΧαιρετισμοί - Εισαγωγή\n\n\n09.15-10.15\nΟισοφάγος\nΘ. Λιακάκος\, Σ. Μιχόπουλος\n\n\n09.15-09.45\nΟισοφάγος Barrett\nΕισηγητής: Χ. Καρακόιδας\nΣχολιαστές: Ι. Δελλαδέτσιμα\, Δ. Καμπέρογλου \n\nΔιαγνωστικά κριτήρια - Απαιτείται πάντα ιστολογική επιβεβαίωση;\nΧειρισμός χαμηλόβαθμης δυσπλασίας: Συμφωνία\, επιβεβαίωση\, παρακολούθηση\nΦαρμακευτική αγωγή: Αναστολέας αντλίας πρωτονίων x1 ή x2; Αμινοσαλικυλικό;\n\n\n\n\n09.45-10.10\nΗωσινοφιλική οισοφαγίτιδα\nΕισηγητής: Θ. Βούλγαρης\nΣχολιαστές: Ι. Δελλαδέτσιμα\, Σ. Σγούρος \n\nΔιαγνωστικά κριτήρια. Πόσο διαφοροποιούνται με τις νέες κατευθυντήριες οδηγίες;\nΔιατροφικές παρεμβάσεις: Με ποιο τρόπο\, με ποια σειρά;\nPPI\, κορτικοστεροειδή ή διαστολές;\n\n\n\n\n10.15-11.15\nΑνώτερο πεπτικό\nΠρόεδροι: Β. Ντελής\, Μ. Τζουβαλά\n\n\n10.15-10.45\nΟ ασθενής με γαστρίτιδα\nΕισηγητής: Α. Καρλάφτης\nΣχολιαστές: Κ. Παπαξοΐνης\, Σ. Σακελλαρίου \n\nΠώς τεκμηριώνεται η αυτοάνοση γαστρίτιδα; Χρειάζονται αντισώματα\, βιοψία\, ή αρκεί το έμπειρο μάτι του ενδοσκόπου;\nΧρόνια γαστρίτιδα με εντερική μετάπλαση. Πώς την παρακολουθώ; Πώς παρεμβαίνω;\nΤι νέα από το H. pylori; Μήπως κινδυνεύουμε να μείνουμε χωρίς όπλα;\n\n\n\n\n10.45-11.15\nΝευροενδοκρινείς όγκοι πεπτικού\nΕισηγητής: Ε. Βλάχου\nΣχολιαστές: Π. Αποστολόπουλος\, Γ. Καλτσάς\, Γ. Παπαξοΐνης \n\nΠοια η βέλτιστη διαγνωστική προσέγγιση και πώς γίνεται η σταδιοποίηση;\nΠοιες οι ενδείξεις χειρουργείου και ποια η βέλτιστη φαρμακευτική αγωγή;\nΠοιο είναι το πρωτόκολλο παρακολούθησης των ασθενών;\n\n\n\n\n11.15-11.30\nΠεπραγμένα Παν/κής Γαστρεντερολογικής Κλινικής\nΓ. Παπαθεοδωρίδης\n\n\n11.30-12.00\nΔιάλειμμα - Καφές\n\n\n12.00-13.00\nΕνδοσκόπηση\nΠρόεδροι: Σ. Λαδάς\, Γ. Στεφανίδης\n\n\n12.0-12.30\nΕφαρμογή των πρόσφατων οδηγιών στην κλινική πράξη. Είναι εφικτή; Τι αλλάζει;\nΕισηγητής: Γ. Τριμπόνιας\nΣχολιαστές: Κ. Παρασκευά\, Κ. Τριανταφύλλου \n\nΧοληδοχοσκόπηση/Παγκρεατοσκόπηση\nDouble-balloon enteroscopy\nLAMS\n\n\n\n\n12.30-13.00\nHot spots στην ενδοσκόπηση\nΕισηγητής: Γ. Κουτούφαρης\nΣχολιαστές: Ι. Παπανικολάου\, Ε. Τσιρώνη \n\nΕνδοσκόπηση σε ασθενείς υπό αντι-αιμοπεταλιακή ή αντιπηκτική αγωγή. Ποιος αποφασίζει;\nΕνδοσκοπική επιτήρηση καρκίνου παχέος εντέρου. Υπάρχουν αλλαγές στην πρακτική μας;\nΕνδοσκοπική αντιμετώπιση επιπλοκών της ΙΦΝΕ. Είναι εφικτή; Έχει αποτέλεσμα;\n\n\n\n\n13.00-14.00\nΠαθήσεις κατωτέρου πεπτικού\nΠρόεδροι: Γ. Μάντζαρης\, Β. Ξουργιάς\n\n\n13.00-13.30\nΟ ασθενής με σύνδρομο ευερεθίστου εντέρου\nΕισηγητής: Χ. Ζλατινούδης\nΣχολιαστές: Χ. Δημοσθενόπουλος\, Γ. Καραμανώλης \n\nΠοιες εξετάσεις αποκλεισμού απαιτούνται για τη διάγνωση;\nΠώς αντιμετωπίζεται; Τι προτείνουν οι νέες κατευθυντήριες οδηγίες;\n\nFODMAPS\, δίαιτα ελεύθερη γλουτένης ή δίαιτες αποκλεισμού;\nΡιφαξιμίνη\, πρεβιοτικά\, συμβιοτικά ή προβιοτικά;\nTCAs\, SSRIs ή σπασμολυτικά;\nΆλλο;\n\n\n\n\n\n\n13.30-14.00\nΙδιοπαθή φλεγμονώδη νοσήματα εντέρου (ΙΦΝΕ)\nΕισηγητής: Π. Καρατζάς\nΣχολιαστές: Ν. Βιάζης\, Γ. Μπάμιας \n\nΠώς εκτιμάται η ενεργότητα και η βαρύτητα;\nΤι πραγματικά προσφέρουν τα φάρμακα μετά τους anti-TNFa;\nΧρειαζόμαστε περισσότερα φάρμακα; Ποιο το θεραπευτικό κενό;\n\n\n\n\n14.00-15.00\nΕλαφρύ γεύμα\n\n\n15.00-16.00\nΉπαρ\nΠρόεδροι: Ε. Βαφειάδη\, Σ. Μανωλακόπουλος\n\n\n15.00-15.30\nΧρόνιες ιογενείς ηπατίτιδες\nΕισηγητής: Μ.-Β. Παπαγεωργίου\nΣχολιαστές: Ν. Μάθου\, Μ. Μελά \n\nΠαρακολούθηση ασθενών με χρόνια ηπατίτιδα Β υπό αντιικό. Πώς\, σε ποιους\, για πόσο;\nΠρέπει να μας προβληματίζει ενδεχόμενη αποτυχία της θεραπείας για χρόνια ηπατίτιδα C;\nΥπάρχει λόγος παρακολούθησης των ασθενών με χρόνια ηπατίτιδα C μετά την επίτευξη SVR; Πόσο υπαρκτός είναι ο κίνδυνος επαναμόλυνσης;\n\n\n\n\n15.30-16.00\nNAFLD: Η σύγχρονη μάστιγα\nΕισηγητής: Π. Φυτιλή\nΣχολιαστές: Μ. Κοντογιάννη\, Μ. Ντόιτς\, Σ. Σακελλαρίου\, Ν. Τεντολούρης \n\nΒιοψία ήπατος: Πόσο αξιόπιστο "gold-standard" αποτελεί; Πότε και σε ποιους συστήνεται;\nΥπάρχει εξ ορισμού NAFLD σε ασθενείς με σακχαρώδη διαβήτη; Ποια η πρόγνωσή της;\nΔιατροφή και άσκηση. Πότε\, πώς\, πόσο; Είναι αποτελεσματική;\n\n\n\n\n16.00-17.00\nΣυνεργασίες ειδικοτήτων\nΠρόεδροι: Ι. Μπολέτης\, Γ. Παπαθεοδωρίδης\n\n\n16.00-16.30\nΠροκλήσεις στον ηπατοκυτταρικό καρκίνο (ΗΚΚ)\nΕισηγητής: Δ. Καραγιαννάκης\nΣχολιαστές: Χ. Βεργαδής\, Ι. Δελλαδέτσιμα Ι. Ελευσινιώτης\, Γ. Σωτηρόπουλος \n\nΠόσο αξιόπιστη είναι η απεικονιστική διάγνωση; Έχει ακόμη θέση\nη βιοψία ήπατος;\nΈχει θέση η ηπατεκτομή ή η μεταμόσχευση ήπατος σε ΗΚΚ πέρα από τα κριτήρια του Μιλάνο;\nTι μπορεί να προσφέρει η φαρμακευτική θεραπεία μετά το sorafenib;\n\n\n\n\n16.30-17.00\nΗπατο-νεφρικά διλήμματα\nΕισηγητής: Σ. Σιακαβέλλας\nΣχολιαστές: Ι. Βλαχογιαννάκος\, Χ. Σκαλιώτη \n\nΠοιος ο βέλτιστος τρόπος αξιολόγησης-παρακολούθησης της νεφρικής λειτουργίας σε ασθενείς με κίρρωση;\nΗπατονεφρικό σύνδρομο: Πότε έχει ένδειξη για αιμοκάθαρση;\nΠοια η βέλτιστη χρήση των αναστολέων καλσινευρίνης μετά τη μεταμόσχευση ήπατος;\n\n\n\n\n17.00-17.30\nΜετεκπαίδευση γαστρεντερολόγων μετά την ειδικότητα. Υπέρ και κατά. Είναι εφικτή σε ελληνικά κέντρα;\nΠρόεδρος: Γ. Παπαθεοδωρίδης\nΕισηγητές: Εκπρόσωπος των ειδικευομένων. Γ. Καραμπέκος\nΕκπρόσωπος ΕΓΕ. Κ. Τριανταφύλλου\nΕκπρόσωπος ΕΠΕΓΕ. Π. Κασαπίδης\nΕκπρόσωπος Δημόσιου Νοσοκομείου. Γ. Μάντζαρης\n\n\n17.30-17.45\nΣυμπεράσματα\nΓ. Παπαθεοδωρίδης\n\n\n\nΠρόεδροι - Σχολιαστές - ΕισηγητέςΠ. Αποστολόπουλος\nΔιευθυντής ΕΣΥ\, Γαστρεντερολογική Κλινική\, ΝΙΜΤΣ \nΕ. Βαφειάδη\nΟμότιμη Καθηγήτρια Παθολογίας-Γαστρεντερολογίας\, Ιατρική Σχολή Ε.Κ.Π.Α. \nΧ. Βεργαδής\nΕπιμελητής Α’ ΕΣΥ\, Τμήμα Διαγνωστικής & Επεμβατικής Ακτινολογίας\, Γ.Ν.Α «Λαϊκό» \nΝ. Βιάζης\nΔιευθυντής ΕΣΥ\, Γαστρεντερολογική Κλινική\, Γ.Ν.Α. «Ο Ευαγγελισμός» \nΙ. Βλαχογιαννάκος\nΑναπληρωτής Καθηγητής Γαστρεντερολογίας Ιατρικής Σχολής Ε.Κ.Π.Α.\, Πανεπιστημιακή Γαστρεντερολογική Κλινική\, Γ.Ν.Α. «Λαϊκό» \nΕ. Βλάχου\nΕπικουρική Ιατρός\, Γαστρεντερολογική Κλινική ΝΙΜΤΣ \nΘ. Βούλγαρης\nΕιδικευόμενος Γαστρεντερολογίας\, Πανεπιστημιακή Γαστρεντερολογική Κλινική\, Γ.Ν.Α. «Λαϊκό» \nΙ. Δελλαδέτσιμα\nΟμότιμη Καθηγήτρια Παθολογικής Ανατομικής\, Ιατρική Σχολή Ε.Κ.Π.Α. \nΧ. Δημοσθενόπουλος\nΚλινικός Διαιτολόγος-Βιολόγος\, Προϊστάμενος Τμήματος Κλινικής Διατροφής\, Γ.Ν.Α. «Λαϊκό» \nΙ. Ελευσινιώτης\nΑναπληρωτής Καθηγητής Παθολογίας\, Τμήμα Νοσηλευτικής\, Ε.Κ.Π.Α.\, Διευθυντής\, Πανεπιστημιακή Παθολογική Κλινική\, Γενικό Ογκολογικό Νοσοκομείο Αθηνών «Οι Άγιοι Ανάργυροι» \nΧ. Ζλατινούδης\nΕιδικευόμενος Γαστρεντερολογίας\, Γαστρεντερολογικό Τμήμα\, Ε.Α.Ν.Π. Μεταξά \nΓ. Καλτσάς\nΚαθηγητής Παθολογίας- Ενδοκρινολογίας Ιατρικής Σχολής Ε.Κ.Π.Α.\, Α’ Προπαιδευτική Παθολογική Κλινική\, Γ.Ν.Α. «Λαϊκό» \nΔ. Καμπέρογλου\nΔιευθυντής ΕΣΥ\, Πανεπιστημιακή Γαστρεντερολογική Κλινική\, Γ.Ν.Α. «Λαϊκό» \nΔ. Καραγιαννάκης\nΑκαδημαϊκός Υπότροφος Ιατρικής Σχολής Ε.Κ.Π.Α.\, Πανεπιστημιακή Γαστρεντερολογική Κλινική\, Γ.Ν.Α «Λαϊκό» \nΧ. Καρακόιδας\nΕπιμελητής Γαστρεντερολογικής Κλινικής\, Ν.Ν.Α. \nΓ. Καραμανώλης\nΑναπληρωτής Καθηγητής Γαστρεντερολογίας Ιατρικής Σχολής Ε.Κ.Π.Α.\, Αρεταίειο Πανεπιστημιακό Νοσοκομείο Αθηνών\, Πανεπιστημιακή Γαστρεντερολογική Κλινική\, Γ.Ν.Α. «Λαϊκό» \nΓ. Καραμπέκος\nΕιδικευόμενος Γαστρεντερολογίας\, Γαστρεντερολογική Κλινική\, Γ.Ν.Α. «Ο Ευαγγελισμός» \nΠ. Καρατζάς\nΑκαδημαϊκός Υπότροφος Ιατρικής Σχολής Ε.Κ.Π.Α.\, Πανεπιστημιακή Γαστρεντερολογική Κλινική\, Γ.Ν.Α. «Λαϊκό» \nΑ. Καρλάφτης\nΕπικουρικός Ιατρός\, Γαστρεντερολογικό Τμήμα\, Γ.Ν.Α «Αλεξάνδρα» \nΠ. Κασαπίδης\nΔιευθυντής Γαστρεντερολογικής Κλινικής & Ενδοσκοπικού Τμήματος\, «Κεντρική Κλινική Αθηνών» \nΜ. Κοντογιάννη\nΕπίκουρη Καθηγήτρια\, Χαροκόπειο Πανεπιστήμιο \nΓ. Κουτούφαρης\nΕιδικευόμενος Γαστρεντερολογίας\, Γαστρεντερολογικό Τμήμα\, Γ.Ν.Π. «Τζάνειο» \nΣ. Λαδάς\nΟμότιμος Καθηγητής Παθολογίας-Γαστρεντερολογίας\, Ιατρική Σχολή Ε.Κ.Π.Α. \nΘ. Λιακάκος\nΚαθηγητής Χειρουργικής\, Ιατρική Σχολή Ε.Κ.Π.Α.\, Διευθυντής Α’ Χειρουργικής Κλινικής\, Γ.Ν.Α. «Λαϊκό» \nΝ. Μάθου\nΔιευθύντρια ΕΣΥ\, Γαστρεντερολογική Κλινική\, Γ.Ν. Ν. Ιωνίας «Κωνσταντοπούλειο-Πατησίων» \nΓ. Μάντζαρης\nΣυντονιστής Διευθυντής ΕΣΥ\, Γαστρεντερολογική Κλινική\, Γ.Ν.Α. «Ο Ευαγγελισμός» \nΣ. Μανωλακόπουλος\nΑναπληρωτής Καθηγητής Παθολογίας-Γαστρεντερολογίας\, Ιατρική Σχολή Ε.Κ.Π.Α.\, Β’ Πανεπιστημιακή Παθολογική Κλινική\, Γ.Ν.Α. «Ιπποκράτειο»\, Πανεπιστημιακή Γαστρεντερολογική Κλινική\, Γ.Ν.Α «Λαϊκό» \nΜ. Μελά\nΕπιμελήτρια Α’\, Γ.Ν.Α. «Ο Ευαγγελισμός-Οφθαλμιατρείο-Πολυκλινική Αθηνών» \nΣ. Μιχόπουλος\nΣυντονιστής Διευθυντής Γαστρεντερολογικού Τμήματος\, Γ.Ν.Α. «Αλεξάνδρα» \nΓ. Μπάμιας\nΑναπληρωτής Καθηγητής Γαστρεντερολογίας\, Ιατρική Σχολή Ε.Κ.Π.Α.\, Γ’ Παθολογική Κλινική\, Γ.Ν.Ν.Θ.Α. «Σωτηρία» \nΙ. Μπολέτης\nΚαθηγητής Παθολογίας-Νεφρολογίας\, Ιατρική Σχολή Ε.Κ.Π.Α.\, Διευθυντής Νεφρολογικής Κλινικής Γ.Ν.Α «Λαϊκό» \nΒ. Ντελής\nΣυντονιστής Διευθυντής ΕΣΥ\, Γαστρεντερολογική Κλινική Γ.Ν.Α. «Γεννηματάς» \nΜ. Ντόιτς\nΑναπληρώτρια Καθηγήτρια Παθολογίας-Ηπατολογίας Ιατρικής Σχολής Ε.Κ.Π.Α.\, Β’ Πανεπιστημιακή Παθολογική Κλινική\, Γ.Ν.Α. «Ιπποκράτειο» \nΒ. Ξουργιάς\nΣυντονιστής Διευθυντής ΕΣΥ\, Γαστρεντερολογικό Τμήμα\, Γ.Ν.Π. «Τζάνειο» \nΜ.Β. Παπαγεωργίου\nΑκαδημαϊκή Υπότροφος Ιατρικής Σχολής Ε.Κ.Π.Α.\, Πανεπιστημιακή Γαστρεντερολογική Κλινική\, Γ.Ν.Α. «Λαϊκό» \nΓ. Παπαθεοδωρίδης\nΚαθηγητής Παθολογίας-Γαστρεντερολογίας\, Ιατρική Σχολή Ε.Κ.Π.Α.\, Διευθυντής Πανεπιστημιακής Γαστρεντερολογικής Κλινικής\, Γ.Ν.Α. «Λαϊκό» \nΙ. Παπανικολάου\nΑναπληρωτής Καθηγητής Γαστρεντερολογίας Ιατρικής Σχολής Ε.Κ.Π.Α.\, Ηπατογαστρεντερολογική Μονάδα\, Β’ Προπαιδευτική Παθολογική Κλινική\, Π.Γ.Ν.Α. «Αττικόν» \nΓ. Παπαξοΐνης\nΕπιμελητής Β’ ΕΣΥ\, Αντικαρκινικό - Ογκολογικό Νοσοκομείο Αθηνών «Άγιος Σάββας» \nΚ. Παπαξοΐνης\nΕπιμελητής Α’ ΕΣΥ\, Πανεπιστημιακή Γαστρεντερολογική Κλινική\, Γ.Ν.Α. «Λαϊκό» \nΚ. Παρασκευά\nΔιευθύντρια ΕΣΥ\, Επιστημονικά Υπεύθυνη Γαστρεντερολογικού Τμήματος\, Γ.Ν. Ν. Ιωνίας «Κωνσταντοπούλειο-Πατησίων» \nΣ. Σακελλαρίου\nΕπίκουρη Καθηγήτρια Παθολογικής Ανατομικής\, Α’ Εργαστήριο Παθολογικής Ανατομικής\, Ιατρική Σχολή Ε.Κ.Π.Α. \nΣ. Σγούρος\nΔιευθυντής\, Γαστρεντερολογική Κλινική\, Ναυτικό Νοσοκομείο Αθηνών \nΣ. Σιακαβέλλας\nΠανεπιστημιακή Γαστρεντερολογική Κλινική\, Γ.Ν.Α. «Λαϊκό» \nΧ. Σκαλιώτη\nΕπιμελήτρια Α’\, Νεφρολογική Κλινική & Μονάδα Μεταμόσχευσης Νεφρού\, Ιατρική Σχολή Ε.Κ.Π.Α.\, Γ.Ν.Α. «Λαϊκό» \nΓ. Στεφανίδης\nΣυντονιστής Διευθυντής\, Γαστρεντερολογική Κλινική\, Ναυτικό Νοσοκομείο Αθηνών \nΓ. Σωτηρόπουλος\nΑναπληρωτής Καθηγητής Χειρουργικής\, Ιατρική Σχολή Ε.Κ.Π.Α.\, Β’ Προπαιδευτική Χειρουργική Κλινική\, Γ.Ν.Α «Λαϊκό» \nΝ. Τεντολούρης\nΚαθηγητής Παθολογίας\, Ιατρική Σχολή Ε.Κ.Π.Α.\, Α’ Προπαιδευτική Παθολογική Κλινική\, Γ.Ν.Α. «Λαϊκό» \nΓ. Τριμπόνιας\nΕπιμελητής Β’\, Γ.Ν. Νίκαια- Πειραιά «Αγ. Παντελεήμων» \nΜ. Τζουβαλά\nΔιευθύντρια ΕΣΥ\, Γαστρεντερολογικό Τμήμα\, Γ.Ν. Νίκαια- Πειραιά «Αγ. Παντελεήμων»-Γ.Ν.Δ.Α. «Αγ. Βαρβάρα» \nΚ. Τριανταφύλλου\nΑναπληρωτής Καθηγητής Γαστρεντερολογίας\, Ιατρική Σχολή Ε.Κ.Π.Α.\, Ηπατογαστρεντερολογική Μονάδα\, Β’ Προπαιδευτική Παθολογική Κλινική\, Π.Γ.Ν.Α. «Αττικόν» \nΕ. Τσιρώνη\nΕπιμελήτρια Α’ ΕΣΥ\, Γαστρεντερολογικό Τμήμα\, Ε.Α.Ν.Π. Μεταξά \nΠ. Φυτιλή\nΕπιστημονική Συνεργάτιδα\, Πανεπιστημιακή Γαστρεντερολογική Κλινική\, Γ.Ν.Α. «Λαϊκό»
URL:https://www.hsg.gr/event/6%ce%b7-%ce%b7%ce%bc%ce%b5%cf%81%ce%af%ce%b4%ce%b1-%cf%83%cf%8d%ce%b3%cf%87%cf%81%ce%bf%ce%bd%ce%b7-%ce%b3%ce%b1%cf%83%cf%84%cf%81%ce%b5%ce%bd%cf%84%ce%b5%cf%81%ce%bf%ce%bb%ce%bf%ce%b3%ce%af%ce%b1/
LOCATION:Αμφιθέατρο «Φ. Φέσσας»\, Γ.Ν.Α. «Λαϊκό»\, Αγίου Θωμά 17\, Αθήνα\, 115 27
CATEGORIES:Ημερίδα
ATTACH;FMTTYPE=image/jpeg:https://www.hsg.gr/wp-content/uploads/2019/05/6imerida-syxroni-gastrenterologia-ipatologia.jpg
END:VEVENT
END:VCALENDAR