BEGIN:VCALENDAR
VERSION:2.0
PRODID:-//Ελληνική Γαστρεντερολογική Εταιρεία - ECPv6.15.20//NONSGML v1.0//EN
CALSCALE:GREGORIAN
METHOD:PUBLISH
X-WR-CALNAME:Ελληνική Γαστρεντερολογική Εταιρεία
X-ORIGINAL-URL:https://www.hsg.gr
X-WR-CALDESC:Events for Ελληνική Γαστρεντερολογική Εταιρεία
REFRESH-INTERVAL;VALUE=DURATION:PT1H
X-Robots-Tag:noindex
X-PUBLISHED-TTL:PT1H
BEGIN:VTIMEZONE
TZID:Europe/Athens
BEGIN:DAYLIGHT
TZOFFSETFROM:+0200
TZOFFSETTO:+0300
TZNAME:EEST
DTSTART:20170326T010000
END:DAYLIGHT
BEGIN:STANDARD
TZOFFSETFROM:+0300
TZOFFSETTO:+0200
TZNAME:EET
DTSTART:20171029T010000
END:STANDARD
BEGIN:DAYLIGHT
TZOFFSETFROM:+0200
TZOFFSETTO:+0300
TZNAME:EEST
DTSTART:20180325T010000
END:DAYLIGHT
BEGIN:STANDARD
TZOFFSETFROM:+0300
TZOFFSETTO:+0200
TZNAME:EET
DTSTART:20181028T010000
END:STANDARD
BEGIN:DAYLIGHT
TZOFFSETFROM:+0200
TZOFFSETTO:+0300
TZNAME:EEST
DTSTART:20190331T010000
END:DAYLIGHT
BEGIN:STANDARD
TZOFFSETFROM:+0300
TZOFFSETTO:+0200
TZNAME:EET
DTSTART:20191027T010000
END:STANDARD
END:VTIMEZONE
BEGIN:VEVENT
DTSTART;VALUE=DATE:20181124
DTEND;VALUE=DATE:20181125
DTSTAMP:20260419T171445
CREATED:20180925T143522Z
LAST-MODIFIED:20180925T143522Z
UID:7973-1543017600-1543103999@www.hsg.gr
SUMMARY:Ημερίδα: Σπλαχνική Φλεβική Θρόμβωση: Διάγνωση και Αντιμετώπιση
DESCRIPTION:Aγαπητοί Συνάδελφοι \nΟι θρομβοεμβολικές παθήσεις περιλαμβάνουν μια σειρά νοσημάτων με επίπτωση σε όλα τα συστήματα του οργανισμού και αποτελούν μια από τις κυριότερες αιτίες θανάτου σε όλες τις ανεπτυγμένες χώρες\, με δραματική μάλιστα αύξηση του επιπολασμού τους τα τελευταία 50 χρόνια. \nΗ θρόμβωση οφείλεται σε αλληλεπιδράσεις πολλαπλών γενετικών και περιβαλλοντικών παραγόντων που συμμετέχουν άλλοτε στην ανάπτυξη της θρομβοεμβολικής νόσου. \nΗ Α΄ Προπαιδευτική Παθολογική Κλινική παραδοσιακά παρουσιάζει κλινική έρευνα και συγγραφική δραστηριότητα στο πεδίο των θρομβοεμβολικών παθήσεων\, με συνεργασία παθολόγων\, αιματολόγων\, νευρολόγων\, καρδιολόγων και πνευμονολόγων. Η ιδιαίτερη αυτή ενασχόληση της κλινικής «ώθησε» και στην επέκταση της μελέτης των επιπτώσεων της νόσου και σε ηπατογαστρεντερολογικό επίπεδο στην υποομάδα της σπλαχνικής φλεβικής θρόμβωσης\, αναφορικά με τη σύγχρονη και δόκιμη διαγνωστική και θεραπευτική της προσέγγιση. \nΣτο πλαίσιο αυτό\, η Α΄ Προπαιδευτική Παθολογική Κλινική διοργανώνει την Ημερίδα «ΣΠΛΑΧΝΙΚΗ ΦΛΕΒΙΚΗ ΘΡΟΜΒΩΣΗ: ΔΙΑΓΝΩΣΗ ΚΑΙ ΑΝΤΙΜΕΤΩΠΙΣΗ» με σκοπό την παρουσίαση από καταξιωμένους συναδέλφους όλων των ειδικοτήτων των σύγχρονων απόψεων ως προς την επίπτωση\, την παθογένεια\, την κλινική εικόνα και το ρόλο των νεότερων φαρμακευτικών\, επεμβατικών ακτινολογικών και χειρουργικών θεραπευτικών μεθόδων. \nΗ παρουσία σας αποτελεί σημαντικό παράγοντα επιτυχίας της ημερίδας μας.Με ιδιαίτερη εκτίμησηΕκ μέρους της Οργανωτικής και Επιστημονικής Επιτροπής \n\n\n\nΑπόστολος Ι. Χατζητόλιος\n \nΑνδρέας Ν. Πρωτοπαπάς\n\n\nΚαθηγητής Παθολογίας ΑΠΘΔιευθυντής Α΄ ΠροπαιδευτικήςΠαθολογικής Κλινικής\n \nΔιευθυντής ΕΣΥ ΓαστρεντερολογίαςΥπεύθυνος Γαστρεντερολογικού ΤμήματοςΑ΄ Προπαιδευτικής Παθολογικής Κλινικής\n\n\n\nΓια περισσότερες πληροφορίες πατήστε εδώ
URL:https://www.hsg.gr/event/%ce%b7%ce%bc%ce%b5%cf%81%ce%af%ce%b4%ce%b1-%cf%83%cf%80%ce%bb%ce%b1%cf%87%ce%bd%ce%b9%ce%ba%ce%ae-%cf%86%ce%bb%ce%b5%ce%b2%ce%b9%ce%ba%ce%ae-%ce%b8%cf%81%cf%8c%ce%bc%ce%b2%cf%89%cf%83%ce%b7-%ce%b4/
LOCATION:Grand Hotel Palace\, Μοναστηρίου 305\, Θεσσαλονίκη\, θεσσαλονίκης\, 546 27
CATEGORIES:Εκδήλωση
ATTACH;FMTTYPE=image/jpeg:https://www.hsg.gr/wp-content/uploads/2018/09/splaxniki-fleviki-thromvosi.jpg
END:VEVENT
BEGIN:VEVENT
DTSTART;TZID=Europe/Athens:20181124T083000
DTEND;TZID=Europe/Athens:20181124T150000
DTSTAMP:20260419T171445
CREATED:20181105T072509Z
LAST-MODIFIED:20181105T072509Z
UID:8121-1543048200-1543071600@www.hsg.gr
SUMMARY:Σύνοψη AASLD 2018
DESCRIPTION:Επιστημονικό ΠρόγραμμαΣάββατο\, 24 Νοεμβρίου 2018\n\n\n\n08.30-09.00\nΕγγραφές\n\n\n09.00-09.30\nΕισαγωγή\n\n\n09.30-11.30\n1ο Στρογγυλό Τραπέζι\nIογενείς Ηπατίτιδες\nΠροεδρείο: Γ. Παπαθεοδωρίδης\, Α. Χατζάκης\n\n\n09.30-10.30\nΗπατίτιδα Β\nΟμιλητής: Σ. Μανωλακόπουλος\n\n\n10.30-11.30\nΗπατίτιδα C\nΟμιλητής: I. Βλαχογιαννάκος\n\n\n11.30-12.30\n2ο Στρογγυλό Τραπέζι\nΜη ιογενείς χρόνιες ηπατοπάθειες\nΠροεδρείο: Ε. Ακριβιάδης\, Ι. Ελευσινιώτης\n\n\n11.30-12.00\nΜη αλκοολική λιπώδης νόσος ήπατος\nΟμιλήτρια: Μ. Ντόιτς\n\n\n12.00-12.30\nΑυτοάνοσα – Χολοστατικά νοσήματα ήπατος\nΟμιλητής: Μ. Μελά\n\n\n12.30-13.00\nΔιάλειμμα - Καφές - Ελαφρύ γεύμα\n\n\n13.00-14.30\n3ο Στρογγυλό Τραπέζι\nΠροχωρημένη ηπατική νόσος\nΠροεδρείο: Ι. Κοσκίνας\, Ε. Χολόγκιτας\n\n\n13.00-13.30\nΊνωση - Κίρρωση - Πυλαία υπέρταση\nΟμιλητής: X. Τριάντος\n\n\n13.30-14.00\nΚαρκίνος ήπατος\nΟμιλητής: Ι. Γουλής\n\n\n14.00-14.30\nΜεταμόσχευση ήπατος\nΟμιλητής: B. Σεβαστιανός\n\n\n14.30-15.00\nΣυμπεράσματα - Λήξη\n\n\n\nΓΕΝΙΚΕΣ ΠΛΗΡΟΦΟΡΙΕΣΥΠΟ ΤΗΝ ΑΙΓΙΔΑΕλληνικής Εταιρείας Μελέτης Ήπατος\nΙατρική Σχολή Ε.Κ.Π.Α. \nΧΡΟΝΟΣ ΔΙΕΞΑΓΩΓΗΣ24 Νοεμβρίου 2018 \nΤΟΠΟΣ ΔΙΕΞΑΓΩΓΗΣΑμφιθέατρο Φυσιολογίας «Γ. Κοτζιάς»\, Ιατρική Σχολή Ε.Κ.Π.Α.\nΜικράς Ασίας 75\n115 27 Γουδή\, Αθήνα \nΓΡΑΜΜΑΤΕΙΑ Focus on Health Ε.Π.Ε.\n Ιωάννου Γενναδίου 16\n 115 21 Αθήνα\n Τ: 210 722 3046\n F: 210 722 3220\n E-mail: events@focusonhealth.gr \nΚατεβάστε το ΠρόγραμμαΠΡΟΓΡΑΜΜΑ ΗΜΕΡΙΔΑΣ
URL:https://www.hsg.gr/event/%cf%83%cf%8d%ce%bd%ce%bf%cf%88%ce%b7-aasld-2018/
LOCATION:Αμφιθέατρο Φυσιολογίας “Γ. Κοτζιάς” (Κτίριο 15)\, Μικράς Ασίας 75\, Γουδή\, Αττικής\, 115 27\, Ελλάδα
CATEGORIES:Ημερίδα
ATTACH;FMTTYPE=image/jpeg:https://www.hsg.gr/wp-content/uploads/2018/11/aasld-2018.jpg
END:VEVENT
END:VCALENDAR