BEGIN:VCALENDAR
VERSION:2.0
PRODID:-//Ελληνική Γαστρεντερολογική Εταιρεία - ECPv6.15.20//NONSGML v1.0//EN
CALSCALE:GREGORIAN
METHOD:PUBLISH
X-WR-CALNAME:Ελληνική Γαστρεντερολογική Εταιρεία
X-ORIGINAL-URL:https://www.hsg.gr
X-WR-CALDESC:Events for Ελληνική Γαστρεντερολογική Εταιρεία
REFRESH-INTERVAL;VALUE=DURATION:PT1H
X-Robots-Tag:noindex
X-PUBLISHED-TTL:PT1H
BEGIN:VTIMEZONE
TZID:Europe/Athens
BEGIN:DAYLIGHT
TZOFFSETFROM:+0200
TZOFFSETTO:+0300
TZNAME:EEST
DTSTART:20170326T010000
END:DAYLIGHT
BEGIN:STANDARD
TZOFFSETFROM:+0300
TZOFFSETTO:+0200
TZNAME:EET
DTSTART:20171029T010000
END:STANDARD
BEGIN:DAYLIGHT
TZOFFSETFROM:+0200
TZOFFSETTO:+0300
TZNAME:EEST
DTSTART:20180325T010000
END:DAYLIGHT
BEGIN:STANDARD
TZOFFSETFROM:+0300
TZOFFSETTO:+0200
TZNAME:EET
DTSTART:20181028T010000
END:STANDARD
BEGIN:DAYLIGHT
TZOFFSETFROM:+0200
TZOFFSETTO:+0300
TZNAME:EEST
DTSTART:20190331T010000
END:DAYLIGHT
BEGIN:STANDARD
TZOFFSETFROM:+0300
TZOFFSETTO:+0200
TZNAME:EET
DTSTART:20191027T010000
END:STANDARD
END:VTIMEZONE
BEGIN:VEVENT
DTSTART;VALUE=DATE:20181018
DTEND;VALUE=DATE:20181020
DTSTAMP:20260419T155151
CREATED:20181013T063039Z
LAST-MODIFIED:20181013T063039Z
UID:8067-1539820800-1539993599@www.hsg.gr
SUMMARY:KENT Endoscopy Training Course 2018
DESCRIPTION:From the organisers: \nThis course is endoscopy training course is based within KSS. Delegates will be part of live endoscopy cases by national and international experts. There will be formative lectures delivered by experts in their field together with hands-on training on animal models lead by Dr Zacharias Tsiamoulos and Professor Yutaka Saito CPD points and certificates will be available for those completing the course We are also delighted to be able to be the only courses able to deliver Interactive sessions on advance endoscopic techniques. \nWe can offer exposure to the new complex polyp service and pathways using our experts from the Trust and delegates will have the opportunity to have hands on practice and feedback. \nThe Trust will also be offering delegates opportunities to apply for a Fellowship in advanced endosurgery \nThe course offers delegates exposure to the new complex polyp service and pathways \nEngaging with and meeting National and international experts. \nOpportunities to see and attend lives cases with interaction to endosurgical procedures which also serves as a refresher course for advanced endoscopic techniques. \nProgrammeLectures – Live cases – Hands-on training on ex vivo porcine colon model \nCourse ConvenorDr Zacharias P. Tsiamoulos\nConsultant in Gastroenterology and Specialist in GI Endoscopy/Endoscopy Clinical Lead Trustwide \nProgramme DirectorsMr Joseph Sebastian\nConsultant in Colorectal Surgery\, Surgical Endoscopy Lead\, EKUHFT \nDr Frank Muller\nConsultant Gastroenterologist\, Gastroenterology Clinical Lead\, EKUHFT \nInternational and National FacultyYutaka Saito\nProfessor of Gastroenterology\, NCCH\, Tokyo\, Japan \nAbe Seiichiro\nConsultant in Gastroenterology\, NCCH\, Tokyo\, Japan \nNaila Arebi\nConsultant in Gastroenterology\, St Mark’s\, London\, UK \nRoser Vega\nConsultant Gastroenterologist UCLH\, UK \nIosif Beintaris\nConsultant Gastroenterologist North Tees\, UK \nEKUHFT Hospital FacultyAUSTIN\, David\, Consultant Gastroenterologist\nBALLINGER\, Anne \, Consultant Gastroenterologist\nBARTON\, Sebastian Consultant Gastroenterologist\nBOLLAS\, Ioannis Consultant Gastroenterologist\nDEBERRY\, Ruth Consultant Gastroenterologist\nDHIMAN\, Arun Consultant Gastroenterologist\nFOX\, Christopher Consultant Gastroenterologist\nHILLS\, Katherine Consultant Gastroenterologist\nMULLER\, Andrew Consultant Gastroenterologist\nNUNES\, Carlo Consultant Gastroenterologist\nARISTEIDIS OIKONOMAKIS Consultant Gastroenterologist\nSHAH JAYSHRI\, Prayman Consultant Gastroenterologist\nAHMED\, Shabbir\, Consultant Surgeon\nAKHTAR\, Mansoor Consultant Surgeon\nALUBAIDI\, Kassem Consultant Surgeon\nBASNYAT\, Pradeep Consultant Surgeon\nBASU\, Sanjoy Consultant Surgeon\nBENZIGER\, Harrison Consultant Surgeon\nEVANS\, Jessica Consultant Surgeon\nHAMADE\, Ayman Consultant Surgeon\nHARILINGAM\, Mohan Consultant Surgeon\nHARINATH\, Gandrasupalli Consultant Surgeon\nKHUSHAL\, Amjad Consultant Surgeon\nMANGAM\, Sudhakar Consultant Surgeon\nMARZOUK\, Deya Consultant Surgeon\nRAMALINGAM\, Thanesan Consultant Surgeon\nTOEIMA\, Mohamed\, Locum Consultant Surgeon\nTSAVELLAS\, George Consultant Surgeon \nAudio-visual and Technical DirectorRags Subramaniam DS&MEM – East Kent HUFT\nSarah McGilley\nKaren Nicholson\nJonathan Powe\nAsh Manjunathan \nConference SponsorsKeyMed Olympus UK\nCreo Medical\nDiagmed UK\nArc Design UK\n3D Matrix UK\nNorgine pharmaceutical UK\nPentax UK \nThursday 18th October 2018\n\n\n\n08.00\nRegistration\n\n\n08.30\nWelcome\nDr Zacharias P. Tsiamoulos\n\n\n08.45\nRoom 1: Live TASER case\nDr Zacharias P. Tsiamoulos/ Mr Joseph Sebastian/ Professor Yutaka Saito\n\n\n10.00\nLecture: Inflammatory Bowel Disease surveillance: BSG guidelines and the role of IBD MDM\nDr Naila Arebi\n\n\n10.30\nRoom 2: Live Chromoendoscopy case – UC colitis\nDr Roser Vega / Dr Frank Muller\n\n\n11.00\nLecture: Chromoendoscopy on IBD surveillance- endoscopic therapy\nDr Abe Seiichiro\n\n\n12.00\nRoom 2 : EMR cases and modified techniques (SCOPE)\nDr Zacharias Tsiamoulos / Dr Roser Vega / Dr Iosif Beintaris\n\n\n12.00\nLecture: Introduction to trans-anal resection techniques - TASER platform\nMr Joseph Sebastian \nModerator Panel: Dr Anne Balinger\, Dr Abe Seiichiro\, Dr Naila Arebi\, Mr Pradeep Basnyat\, Mr Sudhakar Mangam \n*underlined names are the presidents of the panel*\n\n\n12.30\nLunch and Coffee\n\n\n12.30\nRoom 1: Live TAMIS case\nMr Pradeep Basnyat / Mr Sudhakar Mangam\n\n\n13.00\nLecture: Introduction to BSG guidelines for the EMR/ESD resections of Complex polyps\nDr Zacharias P. Tsiamoulos\n\n\n13.30\nLecture: Complex Polyp MDM cases\nMr Joseph Sebastian / Dr Frank Muller / Dr Nipin Bagla / Dr Iosif Beintaris\n\n\n14.00\nRoom 2: Live ESD cases\nDr Zacharias P. Tsiamoulos / Prof Yutaka Saito\n\n\n15.00\nLecture: Complex Polyp MDM cases\nMr Joseph Sebastian / Dr Frank Muller / Dr Nipin Bagla / Dr Iosif Beintaris\n\n\n15.30\nRoom 1: Live EMR case\nDr Roser Vega / Dr Abe Seiichiro \nModerator Panel: Dr Frank Muller\, Mr Joseph Sebastian\, Dr Kate Hills\, Dr Abe Seiichiro\, Dr Iosif Beintaris \n*underlined names are the presidents of the panel*\n\n\n16.30\nAnimal training on ex vivo porcine colon models (3 delegates per station) \nStation 1: Speedboat submucosal colorectal dissections\nDr Zacharias P. Tsiamoulos / Mr Joseph Sebastian \nStation 2: Dual Jet knife and IT nano colorectal dissections\nProf Yutaka Saito / Dr Abe Seiichiro\n\n\n19.00\nEnd of 1st training day\n\n\n\nFriday 19th of October 2018\n\n\n\n08.30\nLecture: Indications for EMR and the use Hybrid EMR/ESD approach\nProf Yutaka Saito\n\n\n09.30\nRoom 1: Live ESD cases\nDr Zacharias P. Tsiamoulos / Prof Yutaka Saito\n\n\n10.30\nLecture: Imaging modalities for the characterization of Colorectal polyps\nDr Roser Vega\n\n\n11.30\nLecture: Inflammatory Bowel Disease surveillance: BSG guidelines and the role of IBD MDMLecture: Post-resection EMR/ESD specimens – Histopathology insights\nDr Nipin Bagla \nModerator Panel: Dr Carlo nunes\, Mr Ayman Hamade\, Dr Abe Seiichiro\, Dr Naila Arebi\, Dr Roser Vega \n*underlined names are the presidents of the panel*\n\n\n12.30\nLunch and Coffee\n\n\n13.00\nRoom 1: Live ESD cases\nDr Zacharias P. Tsiamoulos / Dr Abe Seiichiro / Prof Yutaka Saito\n\n\n13.30\nLecture: JNETS guidelines and Pit pattern interpretation of Colorectal polyps\nProf Yutaka Saito\n\n\n15.00\nRoom 2 : Live EMR cases\nDr Roser Vega / Mr Joseph Sebastian\n\n\n15.00\nLecture: ESD and EMR complications and management\nDr Abe Seiichiro\n\n\n15.30\nLecture: BSG guidelines for Serrated polyps\nDr Iosif Beintaris \nModerator Panel: Dr Iosif Beintaris\, Mr Joseph Sebastian\, Dr Abe Seiichiro\, Dr Roser Vega\, Dr Frank Muller \n*underlined names are the presidents of the panel*\n\n\n16.00\nAnimal training on ex vivo porcine colon models (3 delegates per station) \nStation 1: Speedboat submucosal colorectal dissections\nDr Zacharias P. Tsiamoulos / Mr Joseph Sebastian \nStation 2: Dual Jet knife and IT nano colorectal dissections\nProf Yutaka Saito / Dr Abe Seiichiro\n\n\n18.00\nEnd of 2nd training and closure of the course
URL:https://www.hsg.gr/event/kent-endoscopy-training-course-2018/
LOCATION:Queen Elizabeth The Queen Mother Hospital\, St Peter's Rd\, CT9 4AN\, Ηνωμένο Βασίλειο
CATEGORIES:Διημερίδες
ATTACH;FMTTYPE=image/jpeg:https://www.hsg.gr/wp-content/uploads/2018/10/bsg-endoscopy-training-cource-2018.jpg
END:VEVENT
END:VCALENDAR