BEGIN:VCALENDAR
VERSION:2.0
PRODID:-//Ελληνική Γαστρεντερολογική Εταιρεία - ECPv6.15.20//NONSGML v1.0//EN
CALSCALE:GREGORIAN
METHOD:PUBLISH
X-WR-CALNAME:Ελληνική Γαστρεντερολογική Εταιρεία
X-ORIGINAL-URL:https://www.hsg.gr
X-WR-CALDESC:Events for Ελληνική Γαστρεντερολογική Εταιρεία
REFRESH-INTERVAL;VALUE=DURATION:PT1H
X-Robots-Tag:noindex
X-PUBLISHED-TTL:PT1H
BEGIN:VTIMEZONE
TZID:Europe/Athens
BEGIN:DAYLIGHT
TZOFFSETFROM:+0200
TZOFFSETTO:+0300
TZNAME:EEST
DTSTART:20170326T010000
END:DAYLIGHT
BEGIN:STANDARD
TZOFFSETFROM:+0300
TZOFFSETTO:+0200
TZNAME:EET
DTSTART:20171029T010000
END:STANDARD
BEGIN:DAYLIGHT
TZOFFSETFROM:+0200
TZOFFSETTO:+0300
TZNAME:EEST
DTSTART:20180325T010000
END:DAYLIGHT
BEGIN:STANDARD
TZOFFSETFROM:+0300
TZOFFSETTO:+0200
TZNAME:EET
DTSTART:20181028T010000
END:STANDARD
BEGIN:DAYLIGHT
TZOFFSETFROM:+0200
TZOFFSETTO:+0300
TZNAME:EEST
DTSTART:20190331T010000
END:DAYLIGHT
BEGIN:STANDARD
TZOFFSETFROM:+0300
TZOFFSETTO:+0200
TZNAME:EET
DTSTART:20191027T010000
END:STANDARD
END:VTIMEZONE
BEGIN:VEVENT
DTSTART;VALUE=DATE:20181005
DTEND;VALUE=DATE:20181007
DTSTAMP:20260419T155148
CREATED:20180716T072112Z
LAST-MODIFIED:20180925T141253Z
UID:7738-1538697600-1538870399@www.hsg.gr
SUMMARY:Επιστημονική Εκπαιδευτική Διημερίδα - Τμήμα Βορείου Ελλάδος «ΜΑΚΕΔΟΝΙΑ»
DESCRIPTION:Επιστημονικό ΠρόγραμμαΠαρασκευή\, 5 Οκτωβρίου 2018\n\n\n\n16.30-17.00\nΕγγραφές\n\n\n17.00-18.00\nΣτρόγγυλη ΤράπεζαΚαθημερινά Γαστρεντερολογικά προβλήματα στο ιατρείοΣυντονιστές: Α. Κογεβίνας\, Θ. Τσιώνης \nΑσθενής με δυσπεψίαΝ. Κουσσοπούλου \nΑσθενής με δυσκοιλιότηταΕμ. Γαβαλάς \nΑσθενής με ακράτειαΓ. Ναλμπαντίδης \n\n\n\n18.00-18.45\nΣτρόγγυλη ΤράπεζαΗωσινόφυλα και πεπτικόΣυντονίστρια: Κ. Πατσιαούρα\, Α. Πρωτοπαπάς \nΗ προσέγγιση του γαστεντερολόγουΑχ. Τσιμπερίδης \nΗ προσέγγιση του παθολογοανατόμουΘ. Τζιγκαλίδης \n\n\n\n18.45-19.00\nΔιάλειμμα\n\n\n19.00-19.45\nΣτρόγγυλη ΤράπεζαΚυστικοί όγκοι παγκρέατοςΣυντονιστές: Α. Ταρπάγκος\, Β. Γεωργοπούλου \nΚυστικοί όγκοι παγκρέατος: ταξινόμηση-κλινική εικόνα-διάγνωση- θεραπείαΔ. Τζιλβές \nΑκτινολογική προσέγγιση των κυστικών όγκων του παγκρέατοςΑικ. Ξυνού \n\n\n\n\nΣάββατο\, 6 Οκτωβρίου 2018\n\n\n\n09.00-11.00\nΒήμα ΕιδικευόμενωνΠαρουσίαση ενδιαφερόντων περιστατικών(7 λεπτά κάθε παρουσίαση\, 3 λεπτά ερωτήσεις)Κριτική Επιτροπή: Ε. Ακριβιάδης\, Α. Ηλίας\, Σπ. Ποταμιάνος \n\nΑσθενής με overlap AIH II +PSC και ανοσοεπάρκειαΕυγενία Παπαθανασίου\, Ειδικευόμενη Παθολογίας\, Γ΄ Παθολογική Κλινική Α.Π.Θ.\, Γ.Ν.Θ. «Παπαγεωργίου»\nΑσθενής με απόφραξη 2ης μοίρας δωδεκαδακτύλουΔημήτριος Στογιάννου\, Ειδικευόμενος Γαστρεντερολογίας\, Α΄ Προπαιδευτική Παθολογική Κλινική Α.Π.Θ.\, Ηπατο - Γαστρεντερολογικό Τμήμα\, Γ.Π.Ν.Θ. «ΑΧΕΠΑ»\nΥποβλεννογόνιο μόρφωμα ορθού σε προληπτικό έλεγχο κατωτέρου πεπτικούΑπόστολος Κόφφας MD MRCP (UK)\, Ειδικευόμενος Γαστρεντερολογίας\, Γαστρεντερολογική Κλινική\, Π.Γ.Ν. Λάρισας\nΑσθενής με β-ομόζυγο μεσογειακή αναιμία και οξεία ικτερική ηπατίτιδαΑθανάσιος Καββαδίας\, Ειδικευόμενος Γαστρεντερολογίας\, Γαστρεντερολογική Κλινική\, Π.Γ.Ν. Ιωαννίνων\nΑσθενής με καρκίνο παγκρέατος και πολυαρθρίτιδαΠασχάλης Παυλίογλου\, Ειδικευόμενος Γαστρεντερολογίας\, Γαστρεντερολογική Κλινική\, Α.Ν.Θ. «Θεαγένειο»\nΑσθενής με αιμορραγία πεπτικούΕυριπίδης Στεφανίδης\, Ειδικευόμενος Γαστρεντερολογίας\, Γαστρεντερολογική Κλινική\, σε συνεργασία με την Δ΄ Χειρουργική Κλινική Α.Π.Θ.\, Γ.Ν.Θ. Γ. «Παπανικολάου»\nΥποτροπιάζοντα επεισόδια οξείας παγκρεατίτιδας σε έφηβο ασθενήΚωνσταντίνος Τζιώγκας\, Ειδικευόμενος Γαστρεντερολογίας\, Β΄ Προπαιδεύτικη Παθολογική Κλινική Α.Π.Θ.\, Γ.Ν.Θ. «Ιπποκράτειο»\nΑκαθόριστου τύπου ενδοεπιθηλιακή δυσπλασία στομάχου. Παρακολούθηση ή χειρουργείο;Iωάννα Πολυπαθέλλη\, Ειδικευόμενη Παθολογίας\, Α΄ Παθολογική Κλινική\, Γ.Ν.Θ. «Παπαγεωργίου»\nΕντερίτιδα και κολίτιδα από ανοσοθεραπεία μελανώματοςΙωάννης Τσομίδης\, Ειδικευόμενος Γαστρεντερολογιας\, Α΄ Παθολογική Κλινική Α.Π.Θ.\, Γ.Π.Ν.Θ «ΑΧΕΠΑ»\nEντοπισμένη πολυκυστική νόσος παγκρέατοςΑναστασιάδης Σωτήρης\, Ειδικευόμενος Γαστρεντερολογίας\, Β’ Παθολ ογική Κλινική Α.Π.Θ.\, Γ.Ν.Θ. «Ιπποκράτειο»\nΈνα σπάνιο αίτιο οξείας δυσκοιλιότηταςΑκήφ Χούσκο\, Ειδικευόμενος Παθολογίας\, Α΄ Πανεπιστημιακής Παθολογικής Κλινικής\, Π.Γ.Ν. Αλεξανδρούπολης\nTips για την αντιμετώπιση του συνδρόμου Budd ChiariΣτεφανία Κιαπίδου\, Ειδικευόμενη Γαστρεντερολογίας\, Δ΄ Παθολογική Κλινική Α.Π.Θ.\, Γ.Ν.Θ. «Ιπποκράτειο»\n\n\n\n\n11.00-11.15\nΔιάλειμμα\n\n\n11.15-12.30\nΣτρόγγυλη ΤράπεζαΚαινοτόμες επεμβατικές τεχνικές – Η θέση τους σήμεραΣυντονιστές: Γ. Κουκλάκης\, Α. Κωφοκώτσιος \nPOEMΝ. Ελευθεριάδης \nSTRETTAΚ. Κοτζάμπαση \nESDΓ. ΛαζαράκηΣχολιασμός- Συζήτηση \n\n\n\n12.30-13.00\nΔιάλεξηΕφαρμογές του ανοσο-PET στον ορθοκολικό καρκίνο και στις φλεγμονώδεις νόσους του εντέρουΠροεδρείο: Ι. ΚουντουράςΟμιλητής: Αθ. Νοτόπουλος\n\n\n13.00-13.45\nΑντιπαράθεσηΝοσήματα λεπτού εντέρου: CT/MRI Εντερόκλυση / Εντερογραφία vs Κάψουλα ενδοσκόπησης: Τι να διαλέξουμε;Συντονιστές: Π. Κατσινέλος\, Α. Μοριχοβίτου \nΑκτινολογικό έλεγχοΝ. Κουρκουτσάκης \nΕνδοσκοπική κάψουλαΑ. Γατοπούλου \n\n\n\n13.45-14.45\nΔιάλειμμα - Ελαφρύ γεύμα\n\n\n14.45-15.30\nΣτρόγγυλη ΤράπεζαΝεότερα δεδομένα στις ιογενείς ηπατίτιδεςΣυντονιστές: Κ. Μιμίδης\, Ι. Γουλής \nΗBV-Ποια ζητήματα παραμένουνΓ. Μπαλταγιάννης \nHCV-πόσο κοντά είμαστε στην εκρίζωσηΕμ. Σινάκος \n\n\n\n \nΒραχείες διαλέξειςΣυντονιστές: Α. Καλαμπάκας\, Γ. Γερμανίδης\n\n\n15.30-15.50\nΘεραπεία C. Difficile –Νεότερα δεδομέναΓ. Τσιολακίδου\n\n\n15.50-16.10\nΜεταμόσχευση κοπράνων-εφαρμογές το 2018Π. Πάσχος\n\n\n16.10-16.30\nΑρχές ηλεκτροκαυτηρίασης: Τι πρέπει να γνωρίζει ο γαστρεντερολόγος.Ι. Αβραμίδης\n\n\n16.30-16.45\nΔιάλειμμα\n\n\n16.45-17.30\nΣτρόγγυλη ΤράπεζαΑντιμετώπιση των ασθενών με ΙΦΝΕ το 2018Συντονιστής: Α. Καψωριτάκης\, Θ. Μάρης \nΑποφασίζοντας την πρώτη επιλογή θεραπείας στα ΙΦΝΕΚ. Σουφλέρης \nΔιακοπή των βιολογικών παραγόντων-Αν ναι \, πότε;Σ. Βραδέλης \n\n\n\n17.30-18.15\nΣτρόγγυλη ΤράπεζαΚύηση και πεπτικό σύστημαΣυντονιστές: Θ. Βασιλειάδης\, Ι. Παχιαδάκης \nΚύηση και ήπαρΝ. Γραμματικός \nΚύηση και ΙΦΝΕΚ. Οικονόμου \n\n\n\n18.15-18.30\nΛήξη – Συμπεράσματα - Βράβευση
URL:https://www.hsg.gr/event/%ce%b5%cf%80%ce%b9%cf%83%cf%84%ce%b7%ce%bc%ce%bf%ce%bd%ce%b9%ce%ba%ce%ae-%ce%b5%ce%ba%cf%80%ce%b1%ce%b9%ce%b4%ce%b5%cf%85%cf%84%ce%b9%ce%ba%ce%ae-%ce%b4%ce%b9%ce%b7%ce%bc%ce%b5%cf%81%ce%af%ce%b4%ce%b1/
LOCATION:Ολυμπιακό Μουσείο Θεσσαλονίκης\, 3ης Σεπτεμβρίου\, Θεσσαλονίκη\, θεσσαλονίκης\, 546 36
CATEGORIES:Διημερίδες
ATTACH;FMTTYPE=image/jpeg:https://www.hsg.gr/wp-content/uploads/2018/07/epistimoniki-diimerida-tve-2018-slide.jpg
ORGANIZER;CN="%CE%A4%CE%BC%CE%AE%CE%BC%CE%B1 %CE%92%CE%BF%CF%81%CE%B5%CE%AF%CE%BF%CF%85 %CE%95%CE%BB%CE%BB%CE%AC%CE%B4%CE%B1%CF%82 %C2%AB%CE%9C%CE%B1%CE%BA%CE%B5%CE%B4%CE%BF%CE%BD%CE%AF%CE%B1%C2%BB":MAILTO:makedonia@hsg.gr
END:VEVENT
END:VCALENDAR